BEGIN:VCALENDAR
VERSION:2.0
PRODID:-//The Wineries of Jacksonville - ECPv6.15.20//NONSGML v1.0//EN
CALSCALE:GREGORIAN
METHOD:PUBLISH
X-WR-CALNAME:The Wineries of Jacksonville
X-ORIGINAL-URL:https://jacksonvillewine.com
X-WR-CALDESC:Events for The Wineries of Jacksonville
REFRESH-INTERVAL;VALUE=DURATION:PT1H
X-Robots-Tag:noindex
X-PUBLISHED-TTL:PT1H
BEGIN:VTIMEZONE
TZID:UTC
BEGIN:STANDARD
TZOFFSETFROM:+0000
TZOFFSETTO:+0000
TZNAME:UTC
DTSTART:20250101T000000
END:STANDARD
END:VTIMEZONE
BEGIN:VEVENT
DTSTART;TZID=UTC:20260419T103000
DTEND;TZID=UTC:20260419T130000
DTSTAMP:20260420T103724
CREATED:20260407T021716Z
LAST-MODIFIED:20260407T021716Z
UID:10000745-1776594600-1776603600@jacksonvillewine.com
SUMMARY:Brunch @ Rellik Winery
DESCRIPTION:Sunday morning perfection featuring a curated brunch menu and scenic views.
URL:https://jacksonvillewine.com/event/brunch-rellik-winery-2/
LOCATION:Rellik Winery\, 970 Old Stage Rd\, Central Point\, 97502\, United States
END:VEVENT
BEGIN:VEVENT
DTSTART;TZID=UTC:20260419T140000
DTEND;TZID=UTC:20260419T160000
DTSTAMP:20260420T103724
CREATED:20260407T015137Z
LAST-MODIFIED:20260407T015137Z
UID:10000672-1776607200-1776614400@jacksonvillewine.com
SUMMARY:Jen Ambrose & Jon Galfano @ Daisy Creek Vineyards
DESCRIPTION:
URL:https://jacksonvillewine.com/event/jen-ambrose-jon-galfano-daisy-creek-vineyards/
END:VEVENT
BEGIN:VEVENT
DTSTART;TZID=UTC:20260419T150000
DTEND;TZID=UTC:20260419T170000
DTSTAMP:20260420T103724
CREATED:20260407T014721Z
LAST-MODIFIED:20260407T014721Z
UID:10000659-1776610800-1776618000@jacksonvillewine.com
SUMMARY:Live Music: Sonido Alegre @ Dos Mariposas Vineyards
DESCRIPTION:
URL:https://jacksonvillewine.com/event/live-music-sonido-alegre-dos-mariposas-vineyards/
END:VEVENT
BEGIN:VEVENT
DTSTART;TZID=UTC:20260419T150000
DTEND;TZID=UTC:20260419T170000
DTSTAMP:20260420T103724
CREATED:20260407T015807Z
LAST-MODIFIED:20260407T015807Z
UID:10000732-1776610800-1776618000@jacksonvillewine.com
SUMMARY:Music Bingo @ Hummingbird Estate
DESCRIPTION:Afternoon of music bingo featuring alternative tunes! RSVPs arrive by 2:50pm.
URL:https://jacksonvillewine.com/event/music-bingo-hummingbird-estate/
LOCATION:Hummingbird Estate
END:VEVENT
BEGIN:VEVENT
DTSTART;TZID=UTC:20260419T160000
DTEND;TZID=UTC:20260419T180000
DTSTAMP:20260420T103724
CREATED:20260407T021717Z
LAST-MODIFIED:20260407T021717Z
UID:10000746-1776614400-1776621600@jacksonvillewine.com
SUMMARY:David Pinsky & Phil Newton @ Rellik Winery
DESCRIPTION:Blues and roots music come alive with David Pinsky and Phil Newton.
URL:https://jacksonvillewine.com/event/david-pinsky-phil-newton-rellik-winery/
LOCATION:Rellik Winery\, 970 Old Stage Rd\, Central Point\, 97502\, United States
END:VEVENT
END:VCALENDAR