BEGIN:VCALENDAR
VERSION:2.0
PRODID:-//The Wineries of Jacksonville - ECPv6.15.20//NONSGML v1.0//EN
CALSCALE:GREGORIAN
METHOD:PUBLISH
X-WR-CALNAME:The Wineries of Jacksonville
X-ORIGINAL-URL:https://jacksonvillewine.com
X-WR-CALDESC:Events for The Wineries of Jacksonville
REFRESH-INTERVAL;VALUE=DURATION:PT1H
X-Robots-Tag:noindex
X-PUBLISHED-TTL:PT1H
BEGIN:VTIMEZONE
TZID:UTC
BEGIN:STANDARD
TZOFFSETFROM:+0000
TZOFFSETTO:+0000
TZNAME:UTC
DTSTART:20250101T000000
END:STANDARD
END:VTIMEZONE
BEGIN:VEVENT
DTSTART;TZID=UTC:20260801T153000
DTEND;TZID=UTC:20260801T183000
DTSTAMP:20260420T091152
CREATED:20260407T022207Z
LAST-MODIFIED:20260407T022207Z
UID:10000821-1785598200-1785609000@jacksonvillewine.com
SUMMARY:Saturday BBQ @ Rellik Winery
DESCRIPTION:August begins with house-made BBQ and estate-grown wine.
URL:https://jacksonvillewine.com/event/saturday-bbq-rellik-winery-9/
LOCATION:Rellik Winery\, 970 Old Stage Rd\, Central Point\, 97502\, United States
END:VEVENT
BEGIN:VEVENT
DTSTART;TZID=UTC:20260802T103000
DTEND;TZID=UTC:20260802T130000
DTSTAMP:20260420T091152
CREATED:20260407T022208Z
LAST-MODIFIED:20260407T022208Z
UID:10000822-1785666600-1785675600@jacksonvillewine.com
SUMMARY:Brunch @ Rellik Winery
DESCRIPTION:A delightful Sunday brunch to start the new month.
URL:https://jacksonvillewine.com/event/brunch-rellik-winery-17/
LOCATION:Rellik Winery\, 970 Old Stage Rd\, Central Point\, 97502\, United States
END:VEVENT
BEGIN:VEVENT
DTSTART;TZID=UTC:20260802T140000
DTEND;TZID=UTC:20260802T160000
DTSTAMP:20260420T091152
CREATED:20260407T015642Z
LAST-MODIFIED:20260407T015642Z
UID:10000706-1785679200-1785686400@jacksonvillewine.com
SUMMARY:Alissa & The Side Effects @ Daisy Creek Vineyards
DESCRIPTION:
URL:https://jacksonvillewine.com/event/alissa-the-side-effects-daisy-creek-vineyards-2/
END:VEVENT
BEGIN:VEVENT
DTSTART;TZID=UTC:20260802T160000
DTEND;TZID=UTC:20260802T180000
DTSTAMP:20260420T091152
CREATED:20260407T022219Z
LAST-MODIFIED:20260407T022219Z
UID:10000823-1785686400-1785693600@jacksonvillewine.com
SUMMARY:Starvation Heights @ Rellik Winery
DESCRIPTION:Live music this Sunday featuring the sounds of Starvation Heights.
URL:https://jacksonvillewine.com/event/starvation-heights-rellik-winery-3/
LOCATION:Rellik Winery\, 970 Old Stage Rd\, Central Point\, 97502\, United States
END:VEVENT
BEGIN:VEVENT
DTSTART;TZID=UTC:20260803T170000
DTEND;TZID=UTC:20260803T190000
DTSTAMP:20260420T091152
CREATED:20260407T014350Z
LAST-MODIFIED:20260407T014350Z
UID:10000607-1785776400-1785783600@jacksonvillewine.com
SUMMARY:Shae and Jenni @ Dancin Vineyards
DESCRIPTION:
URL:https://jacksonvillewine.com/event/shae-and-jenni-dancin-vineyards-7/
LOCATION:Dancin Vineyards\, 4477 S Stage Rd\, Medford\, OR\, 97501\, United States
END:VEVENT
BEGIN:VEVENT
DTSTART;TZID=UTC:20260805T170000
DTEND;TZID=UTC:20260805T190000
DTSTAMP:20260420T091152
CREATED:20260407T014350Z
LAST-MODIFIED:20260407T014350Z
UID:10000608-1785949200-1785956400@jacksonvillewine.com
SUMMARY:Jared Gutridge – Solo @ Dancin Vineyards
DESCRIPTION:
URL:https://jacksonvillewine.com/event/jared-gutridge-solo-dancin-vineyards-3/
LOCATION:Dancin Vineyards\, 4477 S Stage Rd\, Medford\, OR\, 97501\, United States
END:VEVENT
BEGIN:VEVENT
DTSTART;TZID=UTC:20260806T180000
DTEND;TZID=UTC:20260806T200000
DTSTAMP:20260420T091152
CREATED:20260407T022220Z
LAST-MODIFIED:20260407T022220Z
UID:10000824-1786039200-1786046400@jacksonvillewine.com
SUMMARY:Cribbage Night @ Rellik Winery
DESCRIPTION:Join our weekly cribbage league for games and great wine.
URL:https://jacksonvillewine.com/event/cribbage-night-rellik-winery-8/
LOCATION:Rellik Winery\, 970 Old Stage Rd\, Central Point\, 97502\, United States
END:VEVENT
BEGIN:VEVENT
DTSTART;TZID=UTC:20260807T163000
DTEND;TZID=UTC:20260807T183000
DTSTAMP:20260420T091152
CREATED:20260407T015643Z
LAST-MODIFIED:20260407T015643Z
UID:10000707-1786120200-1786127400@jacksonvillewine.com
SUMMARY:Giantess @ Daisy Creek Vineyards
DESCRIPTION:
URL:https://jacksonvillewine.com/event/giantess-daisy-creek-vineyards-2/
END:VEVENT
BEGIN:VEVENT
DTSTART;TZID=UTC:20260807T170000
DTEND;TZID=UTC:20260807T190000
DTSTAMP:20260420T091152
CREATED:20260407T014351Z
LAST-MODIFIED:20260407T014351Z
UID:10000609-1786122000-1786129200@jacksonvillewine.com
SUMMARY:Jeff Kloetzel @ Dancin Vineyards
DESCRIPTION:
URL:https://jacksonvillewine.com/event/jeff-kloetzel-dancin-vineyards-5/
LOCATION:Dancin Vineyards\, 4477 S Stage Rd\, Medford\, OR\, 97501\, United States
END:VEVENT
BEGIN:VEVENT
DTSTART;TZID=UTC:20260808T153000
DTEND;TZID=UTC:20260808T183000
DTSTAMP:20260420T091152
CREATED:20260407T022221Z
LAST-MODIFIED:20260407T022221Z
UID:10000825-1786203000-1786213800@jacksonvillewine.com
SUMMARY:Saturday BBQ @ Rellik Winery
DESCRIPTION:Savor the summer with fresh-grilled BBQ at the vineyard.
URL:https://jacksonvillewine.com/event/saturday-bbq-rellik-winery-10/
LOCATION:Rellik Winery\, 970 Old Stage Rd\, Central Point\, 97502\, United States
END:VEVENT
BEGIN:VEVENT
DTSTART;TZID=UTC:20260809T103000
DTEND;TZID=UTC:20260809T130000
DTSTAMP:20260420T091152
CREATED:20260407T022222Z
LAST-MODIFIED:20260407T022222Z
UID:10000826-1786271400-1786280400@jacksonvillewine.com
SUMMARY:Brunch @ Rellik Winery
DESCRIPTION:A classic Sunday morning experience at Rellik Winery.
URL:https://jacksonvillewine.com/event/brunch-rellik-winery-18/
LOCATION:Rellik Winery\, 970 Old Stage Rd\, Central Point\, 97502\, United States
END:VEVENT
BEGIN:VEVENT
DTSTART;TZID=UTC:20260809T140000
DTEND;TZID=UTC:20260809T160000
DTSTAMP:20260420T091152
CREATED:20260407T015643Z
LAST-MODIFIED:20260407T015643Z
UID:10000708-1786284000-1786291200@jacksonvillewine.com
SUMMARY:Jeff Kloetzel @ Daisy Creek Vineyards
DESCRIPTION:
URL:https://jacksonvillewine.com/event/jeff-kloetzel-daisy-creek-vineyards-4/
END:VEVENT
BEGIN:VEVENT
DTSTART;TZID=UTC:20260810T170000
DTEND;TZID=UTC:20260810T190000
DTSTAMP:20260420T091152
CREATED:20260407T014352Z
LAST-MODIFIED:20260407T014352Z
UID:10000610-1786381200-1786388400@jacksonvillewine.com
SUMMARY:JustaDuo @ Dancin Vineyards
DESCRIPTION:
URL:https://jacksonvillewine.com/event/justaduo-dancin-vineyards-4/
LOCATION:Dancin Vineyards\, 4477 S Stage Rd\, Medford\, OR\, 97501\, United States
END:VEVENT
BEGIN:VEVENT
DTSTART;TZID=UTC:20260812T170000
DTEND;TZID=UTC:20260812T190000
DTSTAMP:20260420T091152
CREATED:20260407T014404Z
LAST-MODIFIED:20260407T014404Z
UID:10000611-1786554000-1786561200@jacksonvillewine.com
SUMMARY:Mercy Duo @ Dancin Vineyards
DESCRIPTION:
URL:https://jacksonvillewine.com/event/mercy-duo-dancin-vineyards-4/
LOCATION:Dancin Vineyards\, 4477 S Stage Rd\, Medford\, OR\, 97501\, United States
END:VEVENT
BEGIN:VEVENT
DTSTART;TZID=UTC:20260814T163000
DTEND;TZID=UTC:20260814T183000
DTSTAMP:20260420T091152
CREATED:20260407T015712Z
LAST-MODIFIED:20260407T015712Z
UID:10000709-1786725000-1786732200@jacksonvillewine.com
SUMMARY:Sonido Alegre @ Daisy Creek Vineyards
DESCRIPTION:
URL:https://jacksonvillewine.com/event/sonido-alegre-daisy-creek-vineyards-3/
END:VEVENT
BEGIN:VEVENT
DTSTART;TZID=UTC:20260814T170000
DTEND;TZID=UTC:20260814T190000
DTSTAMP:20260420T091152
CREATED:20260407T014405Z
LAST-MODIFIED:20260407T014405Z
UID:10000612-1786726800-1786734000@jacksonvillewine.com
SUMMARY:Giantess @ Dancin Vineyards
DESCRIPTION:
URL:https://jacksonvillewine.com/event/giantess-dancin-vineyards-3/
LOCATION:Dancin Vineyards\, 4477 S Stage Rd\, Medford\, OR\, 97501\, United States
END:VEVENT
BEGIN:VEVENT
DTSTART;TZID=UTC:20260814T170000
DTEND;TZID=UTC:20260814T190000
DTSTAMP:20260420T091152
CREATED:20260407T022223Z
LAST-MODIFIED:20260407T022223Z
UID:10000827-1786726800-1786734000@jacksonvillewine.com
SUMMARY:Actual Wolf @ Rellik Winery
DESCRIPTION:Friday night music with the compelling performance of Actual Wolf.
URL:https://jacksonvillewine.com/event/actual-wolf-rellik-winery/
LOCATION:Rellik Winery\, 970 Old Stage Rd\, Central Point\, 97502\, United States
END:VEVENT
BEGIN:VEVENT
DTSTART;TZID=UTC:20260815T153000
DTEND;TZID=UTC:20260815T183000
DTSTAMP:20260420T091152
CREATED:20260407T022226Z
LAST-MODIFIED:20260407T022226Z
UID:10000828-1786807800-1786818600@jacksonvillewine.com
SUMMARY:Saturday BBQ @ Rellik Winery
DESCRIPTION:Fresh BBQ and award-winning wine on a perfect summer Saturday.
URL:https://jacksonvillewine.com/event/saturday-bbq-rellik-winery-11/
LOCATION:Rellik Winery\, 970 Old Stage Rd\, Central Point\, 97502\, United States
END:VEVENT
BEGIN:VEVENT
DTSTART;TZID=UTC:20260815T160000
DTEND;TZID=UTC:20260815T180000
DTSTAMP:20260420T091152
CREATED:20260407T022227Z
LAST-MODIFIED:20260407T022227Z
UID:10000829-1786809600-1786816800@jacksonvillewine.com
SUMMARY:The Giantess @ Rellik Winery
DESCRIPTION:Live performance by The Giantess at our Medford estate.
URL:https://jacksonvillewine.com/event/the-giantess-rellik-winery-5/
LOCATION:Rellik Winery\, 970 Old Stage Rd\, Central Point\, 97502\, United States
END:VEVENT
BEGIN:VEVENT
DTSTART;TZID=UTC:20260816T103000
DTEND;TZID=UTC:20260816T130000
DTSTAMP:20260420T091152
CREATED:20260407T022227Z
LAST-MODIFIED:20260407T022227Z
UID:10000830-1786876200-1786885200@jacksonvillewine.com
SUMMARY:Brunch @ Rellik Winery
DESCRIPTION:Sunday brunch at the winery: a Rogue Valley summer tradition.
URL:https://jacksonvillewine.com/event/brunch-rellik-winery-19/
LOCATION:Rellik Winery\, 970 Old Stage Rd\, Central Point\, 97502\, United States
END:VEVENT
BEGIN:VEVENT
DTSTART;TZID=UTC:20260816T140000
DTEND;TZID=UTC:20260816T160000
DTSTAMP:20260420T091152
CREATED:20260407T015713Z
LAST-MODIFIED:20260407T015713Z
UID:10000710-1786888800-1786896000@jacksonvillewine.com
SUMMARY:Jen Ambrose & Annieville @ Daisy Creek Vineyards
DESCRIPTION:
URL:https://jacksonvillewine.com/event/jen-ambrose-annieville-daisy-creek-vineyards-2/
END:VEVENT
BEGIN:VEVENT
DTSTART;TZID=UTC:20260816T160000
DTEND;TZID=UTC:20260816T180000
DTSTAMP:20260420T091152
CREATED:20260407T022228Z
LAST-MODIFIED:20260407T022228Z
UID:10000831-1786896000-1786903200@jacksonvillewine.com
SUMMARY:David Pinsky & Phil Newton @ Rellik Winery
DESCRIPTION:World-class blues with David Pinsky and Phil Newton.
URL:https://jacksonvillewine.com/event/david-pinsky-phil-newton-rellik-winery-5/
LOCATION:Rellik Winery\, 970 Old Stage Rd\, Central Point\, 97502\, United States
END:VEVENT
BEGIN:VEVENT
DTSTART;TZID=UTC:20260817T170000
DTEND;TZID=UTC:20260817T190000
DTSTAMP:20260420T091152
CREATED:20260407T014406Z
LAST-MODIFIED:20260407T014406Z
UID:10000613-1786986000-1786993200@jacksonvillewine.com
SUMMARY:Lisa and Dean @ Dancin Vineyards
DESCRIPTION:
URL:https://jacksonvillewine.com/event/lisa-and-dean-dancin-vineyards-6/
LOCATION:Dancin Vineyards\, 4477 S Stage Rd\, Medford\, OR\, 97501\, United States
END:VEVENT
BEGIN:VEVENT
DTSTART;TZID=UTC:20260819T170000
DTEND;TZID=UTC:20260819T190000
DTSTAMP:20260420T091152
CREATED:20260407T014406Z
LAST-MODIFIED:20260407T014406Z
UID:10000614-1787158800-1787166000@jacksonvillewine.com
SUMMARY:Shae and Jenni @ Dancin Vineyards
DESCRIPTION:
URL:https://jacksonvillewine.com/event/shae-and-jenni-dancin-vineyards-8/
LOCATION:Dancin Vineyards\, 4477 S Stage Rd\, Medford\, OR\, 97501\, United States
END:VEVENT
BEGIN:VEVENT
DTSTART;TZID=UTC:20260820T180000
DTEND;TZID=UTC:20260820T200000
DTSTAMP:20260420T091152
CREATED:20260407T022229Z
LAST-MODIFIED:20260407T022229Z
UID:10000832-1787248800-1787256000@jacksonvillewine.com
SUMMARY:Cribbage Night @ Rellik Winery
DESCRIPTION:Peg your way through Thursday night at our weekly cribbage league.
URL:https://jacksonvillewine.com/event/cribbage-night-rellik-winery-9/
LOCATION:Rellik Winery\, 970 Old Stage Rd\, Central Point\, 97502\, United States
END:VEVENT
BEGIN:VEVENT
DTSTART;TZID=UTC:20260821T163000
DTEND;TZID=UTC:20260821T183000
DTSTAMP:20260420T091152
CREATED:20260407T015713Z
LAST-MODIFIED:20260407T015713Z
UID:10000711-1787329800-1787337000@jacksonvillewine.com
SUMMARY:Aimee Norvell @ Daisy Creek Vineyards
DESCRIPTION:
URL:https://jacksonvillewine.com/event/aimee-norvell-daisy-creek-vineyards-2/
END:VEVENT
BEGIN:VEVENT
DTSTART;TZID=UTC:20260821T170000
DTEND;TZID=UTC:20260821T190000
DTSTAMP:20260420T091152
CREATED:20260407T014407Z
LAST-MODIFIED:20260407T014407Z
UID:10000615-1787331600-1787338800@jacksonvillewine.com
SUMMARY:Jared Gutridge – Duo @ Dancin Vineyards
DESCRIPTION:
URL:https://jacksonvillewine.com/event/jared-gutridge-duo-dancin-vineyards-3/
LOCATION:Dancin Vineyards\, 4477 S Stage Rd\, Medford\, OR\, 97501\, United States
END:VEVENT
BEGIN:VEVENT
DTSTART;TZID=UTC:20260822T153000
DTEND;TZID=UTC:20260822T183000
DTSTAMP:20260420T091152
CREATED:20260407T022234Z
LAST-MODIFIED:20260407T022234Z
UID:10000833-1787412600-1787423400@jacksonvillewine.com
SUMMARY:Saturday BBQ @ Rellik Winery
DESCRIPTION:House-made BBQ paired with estate-grown Southern Oregon wine.
URL:https://jacksonvillewine.com/event/saturday-bbq-rellik-winery-12/
LOCATION:Rellik Winery\, 970 Old Stage Rd\, Central Point\, 97502\, United States
END:VEVENT
BEGIN:VEVENT
DTSTART;TZID=UTC:20260822T160000
DTEND;TZID=UTC:20260822T180000
DTSTAMP:20260420T091152
CREATED:20260407T022235Z
LAST-MODIFIED:20260407T022235Z
UID:10000834-1787414400-1787421600@jacksonvillewine.com
SUMMARY:J-Brothers @ Rellik Winery
DESCRIPTION:Energetic Saturday music from the local J-Brothers duo.
URL:https://jacksonvillewine.com/event/j-brothers-rellik-winery-3/
LOCATION:Rellik Winery\, 970 Old Stage Rd\, Central Point\, 97502\, United States
END:VEVENT
BEGIN:VEVENT
DTSTART;TZID=UTC:20260822T173000
DTEND;TZID=UTC:20260822T200000
DTSTAMP:20260420T091152
CREATED:20260407T015813Z
LAST-MODIFIED:20260407T015813Z
UID:10000736-1787419800-1787428800@jacksonvillewine.com
SUMMARY:Carl Lee & Friends Comedy Show @ Hummingbird Estate
DESCRIPTION:Comedy Show featuring Levi Anderson and Trenton Davis. Ticketed event.
URL:https://jacksonvillewine.com/event/carl-lee-friends-comedy-show-hummingbird-estate/
LOCATION:Hummingbird Estate
END:VEVENT
END:VCALENDAR