BEGIN:VCALENDAR
VERSION:2.0
PRODID:-//The Wineries of Jacksonville - ECPv6.15.20//NONSGML v1.0//EN
CALSCALE:GREGORIAN
METHOD:PUBLISH
X-ORIGINAL-URL:https://jacksonvillewine.com
X-WR-CALDESC:Events for The Wineries of Jacksonville
REFRESH-INTERVAL;VALUE=DURATION:PT1H
X-Robots-Tag:noindex
X-PUBLISHED-TTL:PT1H
BEGIN:VTIMEZONE
TZID:UTC
BEGIN:STANDARD
TZOFFSETFROM:+0000
TZOFFSETTO:+0000
TZNAME:UTC
DTSTART:20250101T000000
END:STANDARD
END:VTIMEZONE
BEGIN:VEVENT
DTSTART;TZID=UTC:20260902T170000
DTEND;TZID=UTC:20260902T190000
DTSTAMP:20260420T104808
CREATED:20260407T014421Z
LAST-MODIFIED:20260407T014421Z
UID:10000618-1788368400-1788375600@jacksonvillewine.com
SUMMARY:Marshall Thompson Duo @ Dancin Vineyards
DESCRIPTION:
URL:https://jacksonvillewine.com/event/marshall-thompson-duo-dancin-vineyards-3/
LOCATION:Dancin Vineyards\, 4477 S Stage Rd\, Medford\, OR\, 97501\, United States
END:VEVENT
BEGIN:VEVENT
DTSTART;TZID=UTC:20260903T180000
DTEND;TZID=UTC:20260903T200000
DTSTAMP:20260420T104808
CREATED:20260407T022304Z
LAST-MODIFIED:20260407T022304Z
UID:10000843-1788458400-1788465600@jacksonvillewine.com
SUMMARY:Cribbage Night @ Rellik Winery
DESCRIPTION:Thursday night cribbage and wine in the tasting room.
URL:https://jacksonvillewine.com/event/cribbage-night-rellik-winery-10/
LOCATION:Rellik Winery\, 970 Old Stage Rd\, Central Point\, 97502\, United States
END:VEVENT
BEGIN:VEVENT
DTSTART;TZID=UTC:20260904T170000
DTEND;TZID=UTC:20260904T190000
DTSTAMP:20260420T104808
CREATED:20260407T014422Z
LAST-MODIFIED:20260407T014422Z
UID:10000619-1788541200-1788548400@jacksonvillewine.com
SUMMARY:Jeff Kloetzel @ Dancin Vineyards
DESCRIPTION:
URL:https://jacksonvillewine.com/event/jeff-kloetzel-dancin-vineyards-6/
LOCATION:Dancin Vineyards\, 4477 S Stage Rd\, Medford\, OR\, 97501\, United States
END:VEVENT
BEGIN:VEVENT
DTSTART;TZID=UTC:20260904T170000
DTEND;TZID=UTC:20260904T190000
DTSTAMP:20260420T104808
CREATED:20260407T022305Z
LAST-MODIFIED:20260407T022305Z
UID:10000844-1788541200-1788548400@jacksonvillewine.com
SUMMARY:Rick Millward @ Rellik Winery
DESCRIPTION:Kick off September with the acoustic sounds of Rick Millward.
URL:https://jacksonvillewine.com/event/rick-millward-rellik-winery-3/
LOCATION:Rellik Winery\, 970 Old Stage Rd\, Central Point\, 97502\, United States
END:VEVENT
BEGIN:VEVENT
DTSTART;TZID=UTC:20260905T153000
DTEND;TZID=UTC:20260905T183000
DTSTAMP:20260420T104808
CREATED:20260407T022305Z
LAST-MODIFIED:20260407T022305Z
UID:10000845-1788622200-1788633000@jacksonvillewine.com
SUMMARY:Saturday BBQ @ Rellik Winery
DESCRIPTION:Labor Day weekend begins with BBQ and estate wine.
URL:https://jacksonvillewine.com/event/saturday-bbq-rellik-winery-14/
LOCATION:Rellik Winery\, 970 Old Stage Rd\, Central Point\, 97502\, United States
END:VEVENT
BEGIN:VEVENT
DTSTART;TZID=UTC:20260905T160000
DTEND;TZID=UTC:20260905T180000
DTSTAMP:20260420T104808
CREATED:20260407T022306Z
LAST-MODIFIED:20260407T022306Z
UID:10000846-1788624000-1788631200@jacksonvillewine.com
SUMMARY:Pozitronics @ Rellik Winery
DESCRIPTION:Saturday afternoon live music featuring Pozitronics.
URL:https://jacksonvillewine.com/event/pozitronics-rellik-winery-3/
LOCATION:Rellik Winery\, 970 Old Stage Rd\, Central Point\, 97502\, United States
END:VEVENT
BEGIN:VEVENT
DTSTART;TZID=UTC:20260906T103000
DTEND;TZID=UTC:20260906T130000
DTSTAMP:20260420T104808
CREATED:20260407T022307Z
LAST-MODIFIED:20260407T022307Z
UID:10000847-1788690600-1788699600@jacksonvillewine.com
SUMMARY:Brunch @ Rellik Winery
DESCRIPTION:Holiday weekend brunch at the winery — a perfect Sunday treat.
URL:https://jacksonvillewine.com/event/brunch-rellik-winery-22/
LOCATION:Rellik Winery\, 970 Old Stage Rd\, Central Point\, 97502\, United States
END:VEVENT
BEGIN:VEVENT
DTSTART;TZID=UTC:20260906T140000
DTEND;TZID=UTC:20260906T160000
DTSTAMP:20260420T104808
CREATED:20260407T015728Z
LAST-MODIFIED:20260407T015728Z
UID:10000715-1788703200-1788710400@jacksonvillewine.com
SUMMARY:Shybo & The Twisted Vines @ Daisy Creek Vineyards
DESCRIPTION:
URL:https://jacksonvillewine.com/event/shybo-the-twisted-vines-daisy-creek-vineyards-2/
END:VEVENT
BEGIN:VEVENT
DTSTART;TZID=UTC:20260906T160000
DTEND;TZID=UTC:20260906T180000
DTSTAMP:20260420T104808
CREATED:20260407T022319Z
LAST-MODIFIED:20260407T022319Z
UID:10000848-1788710400-1788717600@jacksonvillewine.com
SUMMARY:Ann Kelly & Mark Ross @ Rellik Winery
DESCRIPTION:Sunday music with the talented duo Ann Kelly & Mark Ross.
URL:https://jacksonvillewine.com/event/ann-kelly-mark-ross-rellik-winery-3/
LOCATION:Rellik Winery\, 970 Old Stage Rd\, Central Point\, 97502\, United States
END:VEVENT
BEGIN:VEVENT
DTSTART;TZID=UTC:20260907T170000
DTEND;TZID=UTC:20260907T190000
DTSTAMP:20260420T104808
CREATED:20260407T014423Z
LAST-MODIFIED:20260407T014423Z
UID:10000620-1788800400-1788807600@jacksonvillewine.com
SUMMARY:Shae and Jenni @ Dancin Vineyards
DESCRIPTION:
URL:https://jacksonvillewine.com/event/shae-and-jenni-dancin-vineyards-9/
LOCATION:Dancin Vineyards\, 4477 S Stage Rd\, Medford\, OR\, 97501\, United States
END:VEVENT
BEGIN:VEVENT
DTSTART;TZID=UTC:20260909T170000
DTEND;TZID=UTC:20260909T190000
DTSTAMP:20260420T104808
CREATED:20260407T014547Z
LAST-MODIFIED:20260407T014547Z
UID:10000621-1788973200-1788980400@jacksonvillewine.com
SUMMARY:Jared Gutridge – Solo @ Dancin Vineyards
DESCRIPTION:
URL:https://jacksonvillewine.com/event/jared-gutridge-solo-dancin-vineyards-4/
LOCATION:Dancin Vineyards\, 4477 S Stage Rd\, Medford\, OR\, 97501\, United States
END:VEVENT
BEGIN:VEVENT
DTSTART;TZID=UTC:20260911T163000
DTEND;TZID=UTC:20260911T183000
DTSTAMP:20260420T104808
CREATED:20260407T015729Z
LAST-MODIFIED:20260407T015729Z
UID:10000716-1789144200-1789151400@jacksonvillewine.com
SUMMARY:Giantess @ Daisy Creek Vineyards
DESCRIPTION:
URL:https://jacksonvillewine.com/event/giantess-daisy-creek-vineyards-3/
END:VEVENT
BEGIN:VEVENT
DTSTART;TZID=UTC:20260911T170000
DTEND;TZID=UTC:20260911T190000
DTSTAMP:20260420T104808
CREATED:20260407T014548Z
LAST-MODIFIED:20260407T014548Z
UID:10000622-1789146000-1789153200@jacksonvillewine.com
SUMMARY:Danielle Kelly & Paul Turnipseed @ Dancin Vineyards
DESCRIPTION:
URL:https://jacksonvillewine.com/event/danielle-kelly-paul-turnipseed-dancin-vineyards-7/
LOCATION:Dancin Vineyards\, 4477 S Stage Rd\, Medford\, OR\, 97501\, United States
END:VEVENT
BEGIN:VEVENT
DTSTART;TZID=UTC:20260911T170000
DTEND;TZID=UTC:20260911T190000
DTSTAMP:20260420T104808
CREATED:20260407T022320Z
LAST-MODIFIED:20260407T022320Z
UID:10000849-1789146000-1789153200@jacksonvillewine.com
SUMMARY:Connor Reese @ Rellik Winery
DESCRIPTION:Friday night music featuring a live set by Connor Reese.
URL:https://jacksonvillewine.com/event/connor-reese-rellik-winery-2/
LOCATION:Rellik Winery\, 970 Old Stage Rd\, Central Point\, 97502\, United States
END:VEVENT
BEGIN:VEVENT
DTSTART;TZID=UTC:20260912T153000
DTEND;TZID=UTC:20260912T183000
DTSTAMP:20260420T104808
CREATED:20260407T022321Z
LAST-MODIFIED:20260407T022321Z
UID:10000850-1789227000-1789237800@jacksonvillewine.com
SUMMARY:Saturday BBQ @ Rellik Winery
DESCRIPTION:Enjoy house-made BBQ as the autumn air arrives at the vineyard.
URL:https://jacksonvillewine.com/event/saturday-bbq-rellik-winery-15/
LOCATION:Rellik Winery\, 970 Old Stage Rd\, Central Point\, 97502\, United States
END:VEVENT
BEGIN:VEVENT
DTSTART;TZID=UTC:20260912T160000
DTEND;TZID=UTC:20260912T180000
DTSTAMP:20260420T104808
CREATED:20260407T022321Z
LAST-MODIFIED:20260407T022321Z
UID:10000851-1789228800-1789236000@jacksonvillewine.com
SUMMARY:Just A Duo @ Rellik Winery
DESCRIPTION:Live music and local wine with Just A Duo this Saturday.
URL:https://jacksonvillewine.com/event/just-a-duo-rellik-winery-3/
LOCATION:Rellik Winery\, 970 Old Stage Rd\, Central Point\, 97502\, United States
END:VEVENT
BEGIN:VEVENT
DTSTART;TZID=UTC:20260913T103000
DTEND;TZID=UTC:20260913T130000
DTSTAMP:20260420T104808
CREATED:20260407T022322Z
LAST-MODIFIED:20260407T022322Z
UID:10000852-1789295400-1789304400@jacksonvillewine.com
SUMMARY:Brunch @ Rellik Winery
DESCRIPTION:Sunday brunch remains the highlight of the weekend this September.
URL:https://jacksonvillewine.com/event/brunch-rellik-winery-23/
LOCATION:Rellik Winery\, 970 Old Stage Rd\, Central Point\, 97502\, United States
END:VEVENT
BEGIN:VEVENT
DTSTART;TZID=UTC:20260913T140000
DTEND;TZID=UTC:20260913T160000
DTSTAMP:20260420T104808
CREATED:20260407T015730Z
LAST-MODIFIED:20260407T015730Z
UID:10000717-1789308000-1789315200@jacksonvillewine.com
SUMMARY:J Brothers @ Daisy Creek Vineyards
DESCRIPTION:
URL:https://jacksonvillewine.com/event/j-brothers-daisy-creek-vineyards-4/
END:VEVENT
BEGIN:VEVENT
DTSTART;TZID=UTC:20260914T170000
DTEND;TZID=UTC:20260914T190000
DTSTAMP:20260420T104808
CREATED:20260407T014548Z
LAST-MODIFIED:20260407T014548Z
UID:10000623-1789405200-1789412400@jacksonvillewine.com
SUMMARY:Lisa and Dean @ Dancin Vineyards
DESCRIPTION:
URL:https://jacksonvillewine.com/event/lisa-and-dean-dancin-vineyards-7/
LOCATION:Dancin Vineyards\, 4477 S Stage Rd\, Medford\, OR\, 97501\, United States
END:VEVENT
BEGIN:VEVENT
DTSTART;TZID=UTC:20260916T170000
DTEND;TZID=UTC:20260916T190000
DTSTAMP:20260420T104808
CREATED:20260407T014549Z
LAST-MODIFIED:20260407T014549Z
UID:10000624-1789578000-1789585200@jacksonvillewine.com
SUMMARY:JustaDuo @ Dancin Vineyards
DESCRIPTION:
URL:https://jacksonvillewine.com/event/justaduo-dancin-vineyards-5/
LOCATION:Dancin Vineyards\, 4477 S Stage Rd\, Medford\, OR\, 97501\, United States
END:VEVENT
BEGIN:VEVENT
DTSTART;TZID=UTC:20260917T180000
DTEND;TZID=UTC:20260917T200000
DTSTAMP:20260420T104808
CREATED:20260407T022334Z
LAST-MODIFIED:20260407T022334Z
UID:10000853-1789668000-1789675200@jacksonvillewine.com
SUMMARY:Cribbage Night @ Rellik Winery
DESCRIPTION:Peg your way to victory at our weekly cribbage tournament.
URL:https://jacksonvillewine.com/event/cribbage-night-rellik-winery-11/
LOCATION:Rellik Winery\, 970 Old Stage Rd\, Central Point\, 97502\, United States
END:VEVENT
BEGIN:VEVENT
DTSTART;TZID=UTC:20260918T163000
DTEND;TZID=UTC:20260918T183000
DTSTAMP:20260420T104808
CREATED:20260407T015731Z
LAST-MODIFIED:20260407T015731Z
UID:10000718-1789749000-1789756200@jacksonvillewine.com
SUMMARY:Jen Ambrose @ Daisy Creek Vineyards
DESCRIPTION:
URL:https://jacksonvillewine.com/event/jen-ambrose-daisy-creek-vineyards/
END:VEVENT
BEGIN:VEVENT
DTSTART;TZID=UTC:20260918T170000
DTEND;TZID=UTC:20260918T190000
DTSTAMP:20260420T104808
CREATED:20260407T014550Z
LAST-MODIFIED:20260407T014550Z
UID:10000625-1789750800-1789758000@jacksonvillewine.com
SUMMARY:Giantess @ Dancin Vineyards
DESCRIPTION:
URL:https://jacksonvillewine.com/event/giantess-dancin-vineyards-4/
LOCATION:Dancin Vineyards\, 4477 S Stage Rd\, Medford\, OR\, 97501\, United States
END:VEVENT
BEGIN:VEVENT
DTSTART;TZID=UTC:20260918T170000
DTEND;TZID=UTC:20260918T190000
DTSTAMP:20260420T104808
CREATED:20260407T022335Z
LAST-MODIFIED:20260407T022335Z
UID:10000854-1789750800-1789758000@jacksonvillewine.com
SUMMARY:Mike Brons @ Rellik Winery
DESCRIPTION:Catch a live performance by Mike Brons this Friday evening.
URL:https://jacksonvillewine.com/event/mike-brons-rellik-winery-9/
LOCATION:Rellik Winery\, 970 Old Stage Rd\, Central Point\, 97502\, United States
END:VEVENT
BEGIN:VEVENT
DTSTART;TZID=UTC:20260919T153000
DTEND;TZID=UTC:20260919T183000
DTSTAMP:20260420T104808
CREATED:20260407T022336Z
LAST-MODIFIED:20260407T022336Z
UID:10000855-1789831800-1789842600@jacksonvillewine.com
SUMMARY:Saturday BBQ @ Rellik Winery
DESCRIPTION:Saturday BBQ: grilled favorites and estate-grown wine.
URL:https://jacksonvillewine.com/event/saturday-bbq-rellik-winery-16/
LOCATION:Rellik Winery\, 970 Old Stage Rd\, Central Point\, 97502\, United States
END:VEVENT
BEGIN:VEVENT
DTSTART;TZID=UTC:20260919T160000
DTEND;TZID=UTC:20260919T180000
DTSTAMP:20260420T104808
CREATED:20260407T022336Z
LAST-MODIFIED:20260407T022336Z
UID:10000856-1789833600-1789840800@jacksonvillewine.com
SUMMARY:The Giantess @ Rellik Winery
DESCRIPTION:Soulful music and scenic views with The Giantess.
URL:https://jacksonvillewine.com/event/the-giantess-rellik-winery-6/
LOCATION:Rellik Winery\, 970 Old Stage Rd\, Central Point\, 97502\, United States
END:VEVENT
BEGIN:VEVENT
DTSTART;TZID=UTC:20260920T103000
DTEND;TZID=UTC:20260920T130000
DTSTAMP:20260420T104808
CREATED:20260407T022337Z
LAST-MODIFIED:20260407T022337Z
UID:10000857-1789900200-1789909200@jacksonvillewine.com
SUMMARY:Brunch @ Rellik Winery
DESCRIPTION:Harvest season brunch featuring local ingredients and estate wine.
URL:https://jacksonvillewine.com/event/brunch-rellik-winery-24/
LOCATION:Rellik Winery\, 970 Old Stage Rd\, Central Point\, 97502\, United States
END:VEVENT
BEGIN:VEVENT
DTSTART;TZID=UTC:20260920T140000
DTEND;TZID=UTC:20260920T160000
DTSTAMP:20260420T104808
CREATED:20260407T015742Z
LAST-MODIFIED:20260407T015742Z
UID:10000719-1789912800-1789920000@jacksonvillewine.com
SUMMARY:Jeff Kloetzel @ Daisy Creek Vineyards
DESCRIPTION:
URL:https://jacksonvillewine.com/event/jeff-kloetzel-daisy-creek-vineyards-5/
END:VEVENT
BEGIN:VEVENT
DTSTART;TZID=UTC:20260920T160000
DTEND;TZID=UTC:20260920T180000
DTSTAMP:20260420T104808
CREATED:20260407T022349Z
LAST-MODIFIED:20260407T022349Z
UID:10000858-1789920000-1789927200@jacksonvillewine.com
SUMMARY:David Pinsky & Phil Newton @ Rellik Winery
DESCRIPTION:Exceptional blues with David Pinsky and Phil Newton this Sunday.
URL:https://jacksonvillewine.com/event/david-pinsky-phil-newton-rellik-winery-6/
LOCATION:Rellik Winery\, 970 Old Stage Rd\, Central Point\, 97502\, United States
END:VEVENT
BEGIN:VEVENT
DTSTART;TZID=UTC:20260921T170000
DTEND;TZID=UTC:20260921T190000
DTSTAMP:20260420T104808
CREATED:20260407T014602Z
LAST-MODIFIED:20260407T014602Z
UID:10000626-1790010000-1790017200@jacksonvillewine.com
SUMMARY:Jeff Kloetzel @ Dancin Vineyards
DESCRIPTION:
URL:https://jacksonvillewine.com/event/jeff-kloetzel-dancin-vineyards-7/
LOCATION:Dancin Vineyards\, 4477 S Stage Rd\, Medford\, OR\, 97501\, United States
END:VEVENT
END:VCALENDAR