BEGIN:VCALENDAR
VERSION:2.0
PRODID:-//The Wineries of Jacksonville - ECPv6.15.20//NONSGML v1.0//EN
CALSCALE:GREGORIAN
METHOD:PUBLISH
X-ORIGINAL-URL:https://jacksonvillewine.com
X-WR-CALDESC:Events for The Wineries of Jacksonville
REFRESH-INTERVAL;VALUE=DURATION:PT1H
X-Robots-Tag:noindex
X-PUBLISHED-TTL:PT1H
BEGIN:VTIMEZONE
TZID:UTC
BEGIN:STANDARD
TZOFFSETFROM:+0000
TZOFFSETTO:+0000
TZNAME:UTC
DTSTART:20250101T000000
END:STANDARD
END:VTIMEZONE
BEGIN:VEVENT
DTSTART;TZID=UTC:20261001T180000
DTEND;TZID=UTC:20261001T200000
DTSTAMP:20260420T123027
CREATED:20260407T022406Z
LAST-MODIFIED:20260407T022406Z
UID:10000866-1790877600-1790884800@jacksonvillewine.com
SUMMARY:Cribbage Night @ Rellik Winery
DESCRIPTION:October begins with our weekly Thursday cribbage tournament.
URL:https://jacksonvillewine.com/event/cribbage-night-rellik-winery-12/
LOCATION:Rellik Winery\, 970 Old Stage Rd\, Central Point\, 97502\, United States
END:VEVENT
BEGIN:VEVENT
DTSTART;TZID=UTC:20261002T163000
DTEND;TZID=UTC:20261002T183000
DTSTAMP:20260420T123027
CREATED:20260407T015744Z
LAST-MODIFIED:20260407T015744Z
UID:10000722-1790958600-1790965800@jacksonvillewine.com
SUMMARY:Sonido Alegre @ Daisy Creek Vineyards
DESCRIPTION:
URL:https://jacksonvillewine.com/event/sonido-alegre-daisy-creek-vineyards-4/
END:VEVENT
BEGIN:VEVENT
DTSTART;TZID=UTC:20261002T170000
DTEND;TZID=UTC:20261002T190000
DTSTAMP:20260420T123027
CREATED:20260407T014605Z
LAST-MODIFIED:20260407T014605Z
UID:10000630-1790960400-1790967600@jacksonvillewine.com
SUMMARY:Jeff Kloetzel – TBD @ Dancin Vineyards
DESCRIPTION:
URL:https://jacksonvillewine.com/event/jeff-kloetzel-tbd-dancin-vineyards-2/
LOCATION:Dancin Vineyards\, 4477 S Stage Rd\, Medford\, OR\, 97501\, United States
END:VEVENT
BEGIN:VEVENT
DTSTART;TZID=UTC:20261002T170000
DTEND;TZID=UTC:20261002T190000
DTSTAMP:20260420T123027
CREATED:20260407T022407Z
LAST-MODIFIED:20260407T022407Z
UID:10000867-1790960400-1790967600@jacksonvillewine.com
SUMMARY:Mark Charles Hill @ Rellik Winery
DESCRIPTION:Live music with Mark Charles Hill to start the weekend.
URL:https://jacksonvillewine.com/event/mark-charles-hill-rellik-winery-2/
LOCATION:Rellik Winery\, 970 Old Stage Rd\, Central Point\, 97502\, United States
END:VEVENT
BEGIN:VEVENT
DTSTART;TZID=UTC:20261004T103000
DTEND;TZID=UTC:20261004T130000
DTSTAMP:20260420T123027
CREATED:20260407T022419Z
LAST-MODIFIED:20260407T022419Z
UID:10000868-1791109800-1791118800@jacksonvillewine.com
SUMMARY:Brunch @ Rellik Winery
DESCRIPTION:Experience a cozy autumn brunch at the winery this Sunday.
URL:https://jacksonvillewine.com/event/brunch-rellik-winery-26/
LOCATION:Rellik Winery\, 970 Old Stage Rd\, Central Point\, 97502\, United States
END:VEVENT
BEGIN:VEVENT
DTSTART;TZID=UTC:20261004T140000
DTEND;TZID=UTC:20261004T160000
DTSTAMP:20260420T123027
CREATED:20260407T015745Z
LAST-MODIFIED:20260407T015745Z
UID:10000723-1791122400-1791129600@jacksonvillewine.com
SUMMARY:Alissa & The Side Effects @ Daisy Creek Vineyards
DESCRIPTION:
URL:https://jacksonvillewine.com/event/alissa-the-side-effects-daisy-creek-vineyards-3/
END:VEVENT
BEGIN:VEVENT
DTSTART;TZID=UTC:20261004T160000
DTEND;TZID=UTC:20261004T180000
DTSTAMP:20260420T123027
CREATED:20260407T022420Z
LAST-MODIFIED:20260407T022420Z
UID:10000869-1791129600-1791136800@jacksonvillewine.com
SUMMARY:Dr. Pain & The Remedy @ Rellik Winery
DESCRIPTION:Get your dose of live music with Dr. Pain & The Remedy.
URL:https://jacksonvillewine.com/event/dr-pain-the-remedy-rellik-winery-4/
LOCATION:Rellik Winery\, 970 Old Stage Rd\, Central Point\, 97502\, United States
END:VEVENT
BEGIN:VEVENT
DTSTART;TZID=UTC:20261005T170000
DTEND;TZID=UTC:20261005T190000
DTSTAMP:20260420T123027
CREATED:20260407T014617Z
LAST-MODIFIED:20260407T014617Z
UID:10000631-1791219600-1791226800@jacksonvillewine.com
SUMMARY:Shae and Jenni @ Dancin Vineyards
DESCRIPTION:
URL:https://jacksonvillewine.com/event/shae-and-jenni-dancin-vineyards-10/
LOCATION:Dancin Vineyards\, 4477 S Stage Rd\, Medford\, OR\, 97501\, United States
END:VEVENT
BEGIN:VEVENT
DTSTART;TZID=UTC:20261007T170000
DTEND;TZID=UTC:20261007T190000
DTSTAMP:20260420T123027
CREATED:20260407T014618Z
LAST-MODIFIED:20260407T014618Z
UID:10000632-1791392400-1791399600@jacksonvillewine.com
SUMMARY:Allison and Victor @ Dancin Vineyards
DESCRIPTION:
URL:https://jacksonvillewine.com/event/allison-and-victor-dancin-vineyards-4/
LOCATION:Dancin Vineyards\, 4477 S Stage Rd\, Medford\, OR\, 97501\, United States
END:VEVENT
BEGIN:VEVENT
DTSTART;TZID=UTC:20261009T160000
DTEND;TZID=UTC:20261009T180000
DTSTAMP:20260420T123027
CREATED:20260407T022421Z
LAST-MODIFIED:20260407T022421Z
UID:10000870-1791561600-1791568800@jacksonvillewine.com
SUMMARY:Ann Kelly & Mark Ross @ Rellik Winery
DESCRIPTION:An early Friday session with Ann Kelly and Mark Ross.
URL:https://jacksonvillewine.com/event/ann-kelly-mark-ross-rellik-winery-4/
LOCATION:Rellik Winery\, 970 Old Stage Rd\, Central Point\, 97502\, United States
END:VEVENT
BEGIN:VEVENT
DTSTART;TZID=UTC:20261009T163000
DTEND;TZID=UTC:20261009T183000
DTSTAMP:20260420T123027
CREATED:20260407T015757Z
LAST-MODIFIED:20260407T015757Z
UID:10000724-1791563400-1791570600@jacksonvillewine.com
SUMMARY:Marshall & Friends @ Daisy Creek Vineyards
DESCRIPTION:
URL:https://jacksonvillewine.com/event/marshall-friends-daisy-creek-vineyards-4/
END:VEVENT
BEGIN:VEVENT
DTSTART;TZID=UTC:20261009T170000
DTEND;TZID=UTC:20261009T190000
DTSTAMP:20260420T123027
CREATED:20260407T014618Z
LAST-MODIFIED:20260407T014618Z
UID:10000633-1791565200-1791572400@jacksonvillewine.com
SUMMARY:David Pinsky & Phil Newton @ Dancin Vineyards
DESCRIPTION:
URL:https://jacksonvillewine.com/event/david-pinsky-phil-newton-dancin-vineyards-4/
LOCATION:Dancin Vineyards\, 4477 S Stage Rd\, Medford\, OR\, 97501\, United States
END:VEVENT
BEGIN:VEVENT
DTSTART;TZID=UTC:20261010T160000
DTEND;TZID=UTC:20261010T180000
DTSTAMP:20260420T123027
CREATED:20260407T022421Z
LAST-MODIFIED:20260407T022421Z
UID:10000871-1791648000-1791655200@jacksonvillewine.com
SUMMARY:Pozitronics @ Rellik Winery
DESCRIPTION:Saturday afternoon vibes with the great sounds of Pozitronics.
URL:https://jacksonvillewine.com/event/pozitronics-rellik-winery-4/
LOCATION:Rellik Winery\, 970 Old Stage Rd\, Central Point\, 97502\, United States
END:VEVENT
BEGIN:VEVENT
DTSTART;TZID=UTC:20261011T103000
DTEND;TZID=UTC:20261011T130000
DTSTAMP:20260420T123027
CREATED:20260407T022422Z
LAST-MODIFIED:20260407T022422Z
UID:10000872-1791714600-1791723600@jacksonvillewine.com
SUMMARY:Brunch @ Rellik Winery
DESCRIPTION:Sunday brunch and harvest views at Rellik Winery.
URL:https://jacksonvillewine.com/event/brunch-rellik-winery-27/
LOCATION:Rellik Winery\, 970 Old Stage Rd\, Central Point\, 97502\, United States
END:VEVENT
BEGIN:VEVENT
DTSTART;TZID=UTC:20261011T140000
DTEND;TZID=UTC:20261011T160000
DTSTAMP:20260420T123027
CREATED:20260407T015758Z
LAST-MODIFIED:20260407T015758Z
UID:10000725-1791727200-1791734400@jacksonvillewine.com
SUMMARY:Jen Ambrose & The Mystic Trio @ Daisy Creek Vineyards
DESCRIPTION:
URL:https://jacksonvillewine.com/event/jen-ambrose-the-mystic-trio-daisy-creek-vineyards-2/
END:VEVENT
BEGIN:VEVENT
DTSTART;TZID=UTC:20261011T160000
DTEND;TZID=UTC:20261011T180000
DTSTAMP:20260420T123027
CREATED:20260407T022434Z
LAST-MODIFIED:20260407T022434Z
UID:10000873-1791734400-1791741600@jacksonvillewine.com
SUMMARY:J-Brothers @ Rellik Winery
DESCRIPTION:Live performance by the J-Brothers this Sunday.
URL:https://jacksonvillewine.com/event/j-brothers-rellik-winery-4/
LOCATION:Rellik Winery\, 970 Old Stage Rd\, Central Point\, 97502\, United States
END:VEVENT
BEGIN:VEVENT
DTSTART;TZID=UTC:20261012T170000
DTEND;TZID=UTC:20261012T190000
DTSTAMP:20260420T123027
CREATED:20260407T014619Z
LAST-MODIFIED:20260407T014619Z
UID:10000634-1791824400-1791831600@jacksonvillewine.com
SUMMARY:Lisa and Dean @ Dancin Vineyards
DESCRIPTION:
URL:https://jacksonvillewine.com/event/lisa-and-dean-dancin-vineyards-8/
LOCATION:Dancin Vineyards\, 4477 S Stage Rd\, Medford\, OR\, 97501\, United States
END:VEVENT
BEGIN:VEVENT
DTSTART;TZID=UTC:20261014T170000
DTEND;TZID=UTC:20261014T190000
DTSTAMP:20260420T123027
CREATED:20260407T014620Z
LAST-MODIFIED:20260407T014620Z
UID:10000635-1791997200-1792004400@jacksonvillewine.com
SUMMARY:Danielle Kelly & Paul Turnipseed @ Dancin Vineyards
DESCRIPTION:
URL:https://jacksonvillewine.com/event/danielle-kelly-paul-turnipseed-dancin-vineyards-8/
LOCATION:Dancin Vineyards\, 4477 S Stage Rd\, Medford\, OR\, 97501\, United States
END:VEVENT
BEGIN:VEVENT
DTSTART;TZID=UTC:20261015T180000
DTEND;TZID=UTC:20261015T200000
DTSTAMP:20260420T123027
CREATED:20260407T022435Z
LAST-MODIFIED:20260407T022435Z
UID:10000874-1792087200-1792094400@jacksonvillewine.com
SUMMARY:Cribbage Night @ Rellik Winery
DESCRIPTION:Peg your way through October at our weekly cribbage league.
URL:https://jacksonvillewine.com/event/cribbage-night-rellik-winery-13/
LOCATION:Rellik Winery\, 970 Old Stage Rd\, Central Point\, 97502\, United States
END:VEVENT
BEGIN:VEVENT
DTSTART;TZID=UTC:20261016T163000
DTEND;TZID=UTC:20261016T183000
DTSTAMP:20260420T123027
CREATED:20260407T015758Z
LAST-MODIFIED:20260407T015758Z
UID:10000726-1792168200-1792175400@jacksonvillewine.com
SUMMARY:J Brothers @ Daisy Creek Vineyards
DESCRIPTION:
URL:https://jacksonvillewine.com/event/j-brothers-daisy-creek-vineyards-5/
END:VEVENT
BEGIN:VEVENT
DTSTART;TZID=UTC:20261016T170000
DTEND;TZID=UTC:20261016T190000
DTSTAMP:20260420T123027
CREATED:20260407T014632Z
LAST-MODIFIED:20260407T014632Z
UID:10000636-1792170000-1792177200@jacksonvillewine.com
SUMMARY:Giantess @ Dancin Vineyards
DESCRIPTION:
URL:https://jacksonvillewine.com/event/giantess-dancin-vineyards-5/
LOCATION:Dancin Vineyards\, 4477 S Stage Rd\, Medford\, OR\, 97501\, United States
END:VEVENT
BEGIN:VEVENT
DTSTART;TZID=UTC:20261017T160000
DTEND;TZID=UTC:20261017T180000
DTSTAMP:20260420T123027
CREATED:20260407T022436Z
LAST-MODIFIED:20260407T022436Z
UID:10000875-1792252800-1792260000@jacksonvillewine.com
SUMMARY:The Giantess @ Rellik Winery
DESCRIPTION:Soulful music for a crisp October Saturday with The Giantess.
URL:https://jacksonvillewine.com/event/the-giantess-rellik-winery-7/
LOCATION:Rellik Winery\, 970 Old Stage Rd\, Central Point\, 97502\, United States
END:VEVENT
BEGIN:VEVENT
DTSTART;TZID=UTC:20261018T103000
DTEND;TZID=UTC:20261018T130000
DTSTAMP:20260420T123027
CREATED:20260407T022436Z
LAST-MODIFIED:20260407T022436Z
UID:10000876-1792319400-1792328400@jacksonvillewine.com
SUMMARY:Brunch @ Rellik Winery
DESCRIPTION:Locally sourced brunch and award-winning estate wine.
URL:https://jacksonvillewine.com/event/brunch-rellik-winery-28/
LOCATION:Rellik Winery\, 970 Old Stage Rd\, Central Point\, 97502\, United States
END:VEVENT
BEGIN:VEVENT
DTSTART;TZID=UTC:20261018T140000
DTEND;TZID=UTC:20261018T160000
DTSTAMP:20260420T123027
CREATED:20260407T015759Z
LAST-MODIFIED:20260407T015759Z
UID:10000727-1792332000-1792339200@jacksonvillewine.com
SUMMARY:Jeff Kloetzel @ Daisy Creek Vineyards
DESCRIPTION:
URL:https://jacksonvillewine.com/event/jeff-kloetzel-daisy-creek-vineyards-6/
END:VEVENT
BEGIN:VEVENT
DTSTART;TZID=UTC:20261018T160000
DTEND;TZID=UTC:20261018T180000
DTSTAMP:20260420T123027
CREATED:20260407T022437Z
LAST-MODIFIED:20260407T022437Z
UID:10000877-1792339200-1792346400@jacksonvillewine.com
SUMMARY:David Pinsky & Phil Newton @ Rellik Winery
DESCRIPTION:High-quality blues with David Pinsky and Phil Newton.
URL:https://jacksonvillewine.com/event/david-pinsky-phil-newton-rellik-winery-7/
LOCATION:Rellik Winery\, 970 Old Stage Rd\, Central Point\, 97502\, United States
END:VEVENT
BEGIN:VEVENT
DTSTART;TZID=UTC:20261019T170000
DTEND;TZID=UTC:20261019T190000
DTSTAMP:20260420T123027
CREATED:20260407T014633Z
LAST-MODIFIED:20260407T014633Z
UID:10000637-1792429200-1792436400@jacksonvillewine.com
SUMMARY:Jared Gutridge – Solo @ Dancin Vineyards
DESCRIPTION:
URL:https://jacksonvillewine.com/event/jared-gutridge-solo-dancin-vineyards-5/
LOCATION:Dancin Vineyards\, 4477 S Stage Rd\, Medford\, OR\, 97501\, United States
END:VEVENT
BEGIN:VEVENT
DTSTART;TZID=UTC:20261021T170000
DTEND;TZID=UTC:20261021T190000
DTSTAMP:20260420T123027
CREATED:20260407T000223Z
LAST-MODIFIED:20260407T000223Z
UID:10000457-1792602000-1792609200@jacksonvillewine.com
SUMMARY:Shae and Jenni
DESCRIPTION:
URL:https://jacksonvillewine.com/event/shae-and-jenni-11/
END:VEVENT
BEGIN:VEVENT
DTSTART;TZID=UTC:20261021T170000
DTEND;TZID=UTC:20261021T190000
DTSTAMP:20260420T123027
CREATED:20260407T014634Z
LAST-MODIFIED:20260407T014634Z
UID:10000638-1792602000-1792609200@jacksonvillewine.com
SUMMARY:Shae and Jenni @ Dancin Vineyards
DESCRIPTION:
URL:https://jacksonvillewine.com/event/shae-and-jenni-dancin-vineyards-11/
LOCATION:Dancin Vineyards\, 4477 S Stage Rd\, Medford\, OR\, 97501\, United States
END:VEVENT
BEGIN:VEVENT
DTSTART;TZID=UTC:20261023T163000
DTEND;TZID=UTC:20261023T183000
DTSTAMP:20260420T123027
CREATED:20260407T002935Z
LAST-MODIFIED:20260407T002935Z
UID:10000557-1792773000-1792780200@jacksonvillewine.com
SUMMARY:Just A Duo
DESCRIPTION:
URL:https://jacksonvillewine.com/event/just-a-duo-9/
END:VEVENT
BEGIN:VEVENT
DTSTART;TZID=UTC:20261023T163000
DTEND;TZID=UTC:20261023T183000
DTSTAMP:20260420T123027
CREATED:20260407T015800Z
LAST-MODIFIED:20260407T015800Z
UID:10000728-1792773000-1792780200@jacksonvillewine.com
SUMMARY:Just A Duo @ Daisy Creek Vineyards
DESCRIPTION:
URL:https://jacksonvillewine.com/event/just-a-duo-daisy-creek-vineyards-4/
END:VEVENT
END:VCALENDAR