BEGIN:VCALENDAR
VERSION:2.0
PRODID:-//The Wineries of Jacksonville - ECPv6.15.20//NONSGML v1.0//EN
CALSCALE:GREGORIAN
METHOD:PUBLISH
X-ORIGINAL-URL:https://jacksonvillewine.com
X-WR-CALDESC:Events for The Wineries of Jacksonville
REFRESH-INTERVAL;VALUE=DURATION:PT1H
X-Robots-Tag:noindex
X-PUBLISHED-TTL:PT1H
BEGIN:VTIMEZONE
TZID:UTC
BEGIN:STANDARD
TZOFFSETFROM:+0000
TZOFFSETTO:+0000
TZNAME:UTC
DTSTART:20250101T000000
END:STANDARD
END:VTIMEZONE
BEGIN:VTIMEZONE
TZID:America/Los_Angeles
BEGIN:DAYLIGHT
TZOFFSETFROM:-0800
TZOFFSETTO:-0700
TZNAME:PDT
DTSTART:20250309T100000
END:DAYLIGHT
BEGIN:STANDARD
TZOFFSETFROM:-0700
TZOFFSETTO:-0800
TZNAME:PST
DTSTART:20251102T090000
END:STANDARD
BEGIN:DAYLIGHT
TZOFFSETFROM:-0800
TZOFFSETTO:-0700
TZNAME:PDT
DTSTART:20260308T100000
END:DAYLIGHT
BEGIN:STANDARD
TZOFFSETFROM:-0700
TZOFFSETTO:-0800
TZNAME:PST
DTSTART:20261101T090000
END:STANDARD
BEGIN:DAYLIGHT
TZOFFSETFROM:-0800
TZOFFSETTO:-0700
TZNAME:PDT
DTSTART:20270314T100000
END:DAYLIGHT
BEGIN:STANDARD
TZOFFSETFROM:-0700
TZOFFSETTO:-0800
TZNAME:PST
DTSTART:20271107T090000
END:STANDARD
END:VTIMEZONE
BEGIN:VEVENT
DTSTART;TZID=UTC:20261101T103000
DTEND;TZID=UTC:20261101T130000
DTSTAMP:20260420T135949
CREATED:20260407T022506Z
LAST-MODIFIED:20260407T022506Z
UID:10000885-1793529000-1793538000@jacksonvillewine.com
SUMMARY:Brunch @ Rellik Winery
DESCRIPTION:November begins with our popular Sunday vineyard brunch.
URL:https://jacksonvillewine.com/event/brunch-rellik-winery-30/
LOCATION:Rellik Winery\, 970 Old Stage Rd\, Central Point\, 97502\, United States
END:VEVENT
BEGIN:VEVENT
DTSTART;TZID=UTC:20261105T180000
DTEND;TZID=UTC:20261105T200000
DTSTAMP:20260420T135949
CREATED:20260407T022507Z
LAST-MODIFIED:20260407T022507Z
UID:10000886-1793901600-1793908800@jacksonvillewine.com
SUMMARY:Cribbage Night @ Rellik Winery
DESCRIPTION:Warm up with wine and cards at our weekly cribbage night.
URL:https://jacksonvillewine.com/event/cribbage-night-rellik-winery-14/
LOCATION:Rellik Winery\, 970 Old Stage Rd\, Central Point\, 97502\, United States
END:VEVENT
BEGIN:VEVENT
DTSTART;TZID=UTC:20261106T163000
DTEND;TZID=UTC:20261106T183000
DTSTAMP:20260420T135949
CREATED:20260407T002948Z
LAST-MODIFIED:20260407T002948Z
UID:10000559-1793982600-1793989800@jacksonvillewine.com
SUMMARY:Friday Night Live Music
DESCRIPTION:
URL:https://jacksonvillewine.com/event/friday-night-live-music/
END:VEVENT
BEGIN:VEVENT
DTSTART;TZID=UTC:20261106T170000
DTEND;TZID=UTC:20261106T190000
DTSTAMP:20260420T135949
CREATED:20260407T000224Z
LAST-MODIFIED:20260407T000224Z
UID:10000459-1793984400-1793991600@jacksonvillewine.com
SUMMARY:David Pinsky & Phil Newton
DESCRIPTION:
URL:https://jacksonvillewine.com/event/david-pinsky-phil-newton-5/
END:VEVENT
BEGIN:VEVENT
DTSTART;TZID=UTC:20261106T170000
DTEND;TZID=UTC:20261106T190000
DTSTAMP:20260420T135949
CREATED:20260407T014635Z
LAST-MODIFIED:20260407T014635Z
UID:10000640-1793984400-1793991600@jacksonvillewine.com
SUMMARY:David Pinsky & Phil Newton @ Dancin Vineyards
DESCRIPTION:
URL:https://jacksonvillewine.com/event/david-pinsky-phil-newton-dancin-vineyards-5/
LOCATION:Dancin Vineyards\, 4477 S Stage Rd\, Medford\, OR\, 97501\, United States
END:VEVENT
BEGIN:VEVENT
DTSTART;TZID=UTC:20261106T170000
DTEND;TZID=UTC:20261106T190000
DTSTAMP:20260420T135949
CREATED:20260407T022507Z
LAST-MODIFIED:20260407T022507Z
UID:10000887-1793984400-1793991600@jacksonvillewine.com
SUMMARY:David & Enoch @ Rellik Winery
DESCRIPTION:Friday night musical collaboration with David & Enoch.
URL:https://jacksonvillewine.com/event/david-enoch-rellik-winery/
LOCATION:Rellik Winery\, 970 Old Stage Rd\, Central Point\, 97502\, United States
END:VEVENT
BEGIN:VEVENT
DTSTART;TZID=America/Los_Angeles:20261107T160000
DTEND;TZID=America/Los_Angeles:20261107T180000
DTSTAMP:20260420T135949
CREATED:20260331T002919Z
LAST-MODIFIED:20260415T114525Z
UID:10000384-1794067200-1794074400@jacksonvillewine.com
SUMMARY:Kristen & Robbie Duo
DESCRIPTION:
URL:https://jacksonvillewine.com/event/kristen-robbie-duo-2/
END:VEVENT
BEGIN:VEVENT
DTSTART;TZID=UTC:20261107T160000
DTEND;TZID=UTC:20261107T180000
DTSTAMP:20260420T135949
CREATED:20260407T022519Z
LAST-MODIFIED:20260407T022519Z
UID:10000888-1794067200-1794074400@jacksonvillewine.com
SUMMARY:Kristen & Robbie Duo @ Rellik Winery
DESCRIPTION:Live music this Saturday featuring the Kristen & Robbie Duo.
URL:https://jacksonvillewine.com/event/kristen-robbie-duo-rellik-winery-3/
LOCATION:Rellik Winery\, 970 Old Stage Rd\, Central Point\, 97502\, United States
END:VEVENT
BEGIN:VEVENT
DTSTART;TZID=UTC:20261108T103000
DTEND;TZID=UTC:20261108T130000
DTSTAMP:20260420T135949
CREATED:20260407T022520Z
LAST-MODIFIED:20260407T022520Z
UID:10000889-1794133800-1794142800@jacksonvillewine.com
SUMMARY:Brunch @ Rellik Winery
DESCRIPTION:A cozy Sunday morning experience in our tasting room.
URL:https://jacksonvillewine.com/event/brunch-rellik-winery-31/
LOCATION:Rellik Winery\, 970 Old Stage Rd\, Central Point\, 97502\, United States
END:VEVENT
BEGIN:VEVENT
DTSTART;TZID=America/Los_Angeles:20261108T120000
DTEND;TZID=America/Los_Angeles:20261108T170000
DTSTAMP:20260420T135949
CREATED:20260407T000536Z
LAST-MODIFIED:20260407T000538Z
UID:10000474-1794139200-1794157200@jacksonvillewine.com
SUMMARY:Fall Wine Club Release - Tasting Room Closed
DESCRIPTION:Time to stock up before the holidays! Our 2026 fall wine club release will be Sunday\, November 8th. More details to follow.\n \nShipping members: watch your email for shipping dates\, which will likely be in late October.
URL:https://jacksonvillewine.com/event/fall-wine-club-release-tasting-room-closed/
ATTACH;FMTTYPE=image/png:https://jacksonvillewine.com/wp-content/uploads/2025/03/birds-removebg-preview-GBPWkp.png
END:VEVENT
BEGIN:VEVENT
DTSTART;TZID=UTC:20261108T120000
DTEND;TZID=UTC:20261108T170000
DTSTAMP:20260420T135949
CREATED:20260407T015814Z
LAST-MODIFIED:20260407T015814Z
UID:10000737-1794139200-1794157200@jacksonvillewine.com
SUMMARY:Fall Wine Club Release - Tasting Room Closed @ Hummingbird Estate
DESCRIPTION:Fall wine club release. Time to stock up before the holidays!
URL:https://jacksonvillewine.com/event/fall-wine-club-release-tasting-room-closed-hummingbird-estate/
LOCATION:Hummingbird Estate
END:VEVENT
BEGIN:VEVENT
DTSTART;TZID=UTC:20261108T160000
DTEND;TZID=UTC:20261108T180000
DTSTAMP:20260420T135949
CREATED:20260407T022520Z
LAST-MODIFIED:20260407T022520Z
UID:10000890-1794153600-1794160800@jacksonvillewine.com
SUMMARY:Starvation Heights @ Rellik Winery
DESCRIPTION:Relax this Sunday with the music of Starvation Heights.
URL:https://jacksonvillewine.com/event/starvation-heights-rellik-winery-5/
LOCATION:Rellik Winery\, 970 Old Stage Rd\, Central Point\, 97502\, United States
END:VEVENT
BEGIN:VEVENT
DTSTART;TZID=UTC:20261113T163000
DTEND;TZID=UTC:20261113T183000
DTSTAMP:20260420T135949
CREATED:20260407T002948Z
LAST-MODIFIED:20260407T002948Z
UID:10000560-1794587400-1794594600@jacksonvillewine.com
SUMMARY:Friday Night Live Music
DESCRIPTION:
URL:https://jacksonvillewine.com/event/friday-night-live-music-2/
END:VEVENT
BEGIN:VEVENT
DTSTART;TZID=UTC:20261113T170000
DTEND;TZID=UTC:20261113T190000
DTSTAMP:20260420T135949
CREATED:20260407T000236Z
LAST-MODIFIED:20260407T000236Z
UID:10000460-1794589200-1794596400@jacksonvillewine.com
SUMMARY:Jeff Kloetzel
DESCRIPTION:
URL:https://jacksonvillewine.com/event/jeff-kloetzel-8/
END:VEVENT
BEGIN:VEVENT
DTSTART;TZID=UTC:20261113T170000
DTEND;TZID=UTC:20261113T190000
DTSTAMP:20260420T135949
CREATED:20260407T014647Z
LAST-MODIFIED:20260407T014647Z
UID:10000641-1794589200-1794596400@jacksonvillewine.com
SUMMARY:Jeff Kloetzel @ Dancin Vineyards
DESCRIPTION:
URL:https://jacksonvillewine.com/event/jeff-kloetzel-dancin-vineyards-8/
LOCATION:Dancin Vineyards\, 4477 S Stage Rd\, Medford\, OR\, 97501\, United States
END:VEVENT
BEGIN:VEVENT
DTSTART;TZID=UTC:20261113T170000
DTEND;TZID=UTC:20261113T190000
DTSTAMP:20260420T135949
CREATED:20260407T022521Z
LAST-MODIFIED:20260407T022521Z
UID:10000891-1794589200-1794596400@jacksonvillewine.com
SUMMARY:Ann Kelly & Mark Ross @ Rellik Winery
DESCRIPTION:Friday evening live music with Ann Kelly and Mark Ross.
URL:https://jacksonvillewine.com/event/ann-kelly-mark-ross-rellik-winery-5/
LOCATION:Rellik Winery\, 970 Old Stage Rd\, Central Point\, 97502\, United States
END:VEVENT
BEGIN:VEVENT
DTSTART;TZID=UTC:20261114T160000
DTEND;TZID=UTC:20261114T180000
DTSTAMP:20260420T135949
CREATED:20260407T022522Z
LAST-MODIFIED:20260407T022522Z
UID:10000892-1794672000-1794679200@jacksonvillewine.com
SUMMARY:J-Brothers @ Rellik Winery
DESCRIPTION:High-energy acoustic music to brighten your Saturday.
URL:https://jacksonvillewine.com/event/j-brothers-rellik-winery-5/
LOCATION:Rellik Winery\, 970 Old Stage Rd\, Central Point\, 97502\, United States
END:VEVENT
BEGIN:VEVENT
DTSTART;TZID=UTC:20261115T103000
DTEND;TZID=UTC:20261115T130000
DTSTAMP:20260420T135949
CREATED:20260407T022534Z
LAST-MODIFIED:20260407T022534Z
UID:10000893-1794738600-1794747600@jacksonvillewine.com
SUMMARY:Brunch @ Rellik Winery
DESCRIPTION:Locally sourced brunch favorites and estate wines.
URL:https://jacksonvillewine.com/event/brunch-rellik-winery-32/
LOCATION:Rellik Winery\, 970 Old Stage Rd\, Central Point\, 97502\, United States
END:VEVENT
BEGIN:VEVENT
DTSTART;TZID=UTC:20261115T160000
DTEND;TZID=UTC:20261115T180000
DTSTAMP:20260420T135949
CREATED:20260407T022535Z
LAST-MODIFIED:20260407T022535Z
UID:10000894-1794758400-1794765600@jacksonvillewine.com
SUMMARY:David Pinsky & Phil Newton @ Rellik Winery
DESCRIPTION:Exceptional blues with David Pinsky and Phil Newton.
URL:https://jacksonvillewine.com/event/david-pinsky-phil-newton-rellik-winery-8/
LOCATION:Rellik Winery\, 970 Old Stage Rd\, Central Point\, 97502\, United States
END:VEVENT
BEGIN:VEVENT
DTSTART;TZID=UTC:20261119T180000
DTEND;TZID=UTC:20261119T200000
DTSTAMP:20260420T135949
CREATED:20260407T022536Z
LAST-MODIFIED:20260407T022536Z
UID:10000895-1795111200-1795118400@jacksonvillewine.com
SUMMARY:Cribbage Night @ Rellik Winery
DESCRIPTION:Join us for our weekly community cribbage league.
URL:https://jacksonvillewine.com/event/cribbage-night-rellik-winery-15/
LOCATION:Rellik Winery\, 970 Old Stage Rd\, Central Point\, 97502\, United States
END:VEVENT
BEGIN:VEVENT
DTSTART;TZID=UTC:20261120T163000
DTEND;TZID=UTC:20261120T183000
DTSTAMP:20260420T135949
CREATED:20260407T002949Z
LAST-MODIFIED:20260407T002949Z
UID:10000561-1795192200-1795199400@jacksonvillewine.com
SUMMARY:Friday Night Live Music
DESCRIPTION:
URL:https://jacksonvillewine.com/event/friday-night-live-music-3/
END:VEVENT
BEGIN:VEVENT
DTSTART;TZID=UTC:20261120T170000
DTEND;TZID=UTC:20261120T190000
DTSTAMP:20260420T135949
CREATED:20260407T000237Z
LAST-MODIFIED:20260407T000237Z
UID:10000461-1795194000-1795201200@jacksonvillewine.com
SUMMARY:Lisa and Dean
DESCRIPTION:
URL:https://jacksonvillewine.com/event/lisa-and-dean-9/
END:VEVENT
BEGIN:VEVENT
DTSTART;TZID=UTC:20261120T170000
DTEND;TZID=UTC:20261120T190000
DTSTAMP:20260420T135949
CREATED:20260407T014648Z
LAST-MODIFIED:20260407T014648Z
UID:10000642-1795194000-1795201200@jacksonvillewine.com
SUMMARY:Lisa and Dean @ Dancin Vineyards
DESCRIPTION:
URL:https://jacksonvillewine.com/event/lisa-and-dean-dancin-vineyards-9/
LOCATION:Dancin Vineyards\, 4477 S Stage Rd\, Medford\, OR\, 97501\, United States
END:VEVENT
BEGIN:VEVENT
DTSTART;TZID=UTC:20261120T170000
DTEND;TZID=UTC:20261120T190000
DTSTAMP:20260420T135949
CREATED:20260407T022536Z
LAST-MODIFIED:20260407T022536Z
UID:10000896-1795194000-1795201200@jacksonvillewine.com
SUMMARY:Rick Millward @ Rellik Winery
DESCRIPTION:Acoustic Friday night session with Rick Millward.
URL:https://jacksonvillewine.com/event/rick-millward-rellik-winery-4/
LOCATION:Rellik Winery\, 970 Old Stage Rd\, Central Point\, 97502\, United States
END:VEVENT
BEGIN:VEVENT
DTSTART;TZID=UTC:20261121T160000
DTEND;TZID=UTC:20261121T180000
DTSTAMP:20260420T135949
CREATED:20260407T022537Z
LAST-MODIFIED:20260407T022537Z
UID:10000897-1795276800-1795284000@jacksonvillewine.com
SUMMARY:The Giantess @ Rellik Winery
DESCRIPTION:Soulful music and great wine this Saturday with The Giantess.
URL:https://jacksonvillewine.com/event/the-giantess-rellik-winery-8/
LOCATION:Rellik Winery\, 970 Old Stage Rd\, Central Point\, 97502\, United States
END:VEVENT
BEGIN:VEVENT
DTSTART;TZID=UTC:20261122T103000
DTEND;TZID=UTC:20261122T130000
DTSTAMP:20260420T135949
CREATED:20260407T022549Z
LAST-MODIFIED:20260407T022549Z
UID:10000898-1795343400-1795352400@jacksonvillewine.com
SUMMARY:Brunch @ Rellik Winery
DESCRIPTION:A relaxing Sunday brunch before the holiday week.
URL:https://jacksonvillewine.com/event/brunch-rellik-winery-33/
LOCATION:Rellik Winery\, 970 Old Stage Rd\, Central Point\, 97502\, United States
END:VEVENT
BEGIN:VEVENT
DTSTART;TZID=UTC:20261122T160000
DTEND;TZID=UTC:20261122T180000
DTSTAMP:20260420T135949
CREATED:20260407T022550Z
LAST-MODIFIED:20260407T022550Z
UID:10000899-1795363200-1795370400@jacksonvillewine.com
SUMMARY:Cathy Bolton @ Rellik Winery
DESCRIPTION:Sunday afternoon live music featuring Cathy Bolton.
URL:https://jacksonvillewine.com/event/cathy-bolton-rellik-winery-4/
LOCATION:Rellik Winery\, 970 Old Stage Rd\, Central Point\, 97502\, United States
END:VEVENT
BEGIN:VEVENT
DTSTART;TZID=UTC:20261127T163000
DTEND;TZID=UTC:20261127T183000
DTSTAMP:20260420T135949
CREATED:20260407T002950Z
LAST-MODIFIED:20260407T002950Z
UID:10000562-1795797000-1795804200@jacksonvillewine.com
SUMMARY:Friday Night Live Music
DESCRIPTION:
URL:https://jacksonvillewine.com/event/friday-night-live-music-4/
END:VEVENT
BEGIN:VEVENT
DTSTART;TZID=UTC:20261127T170000
DTEND;TZID=UTC:20261127T190000
DTSTAMP:20260420T135949
CREATED:20260407T000238Z
LAST-MODIFIED:20260407T000238Z
UID:10000462-1795798800-1795806000@jacksonvillewine.com
SUMMARY:Jared Gutridge – Solo
DESCRIPTION:
URL:https://jacksonvillewine.com/event/jared-gutridge-solo-6/
END:VEVENT
BEGIN:VEVENT
DTSTART;TZID=UTC:20261127T170000
DTEND;TZID=UTC:20261127T190000
DTSTAMP:20260420T135949
CREATED:20260407T014648Z
LAST-MODIFIED:20260407T014648Z
UID:10000643-1795798800-1795806000@jacksonvillewine.com
SUMMARY:Jared Gutridge – Solo @ Dancin Vineyards
DESCRIPTION:
URL:https://jacksonvillewine.com/event/jared-gutridge-solo-dancin-vineyards-6/
LOCATION:Dancin Vineyards\, 4477 S Stage Rd\, Medford\, OR\, 97501\, United States
END:VEVENT
END:VCALENDAR