BEGIN:VCALENDAR
VERSION:2.0
PRODID:-//The Wineries of Jacksonville - ECPv6.15.20//NONSGML v1.0//EN
CALSCALE:GREGORIAN
METHOD:PUBLISH
X-ORIGINAL-URL:https://jacksonvillewine.com
X-WR-CALDESC:Events for The Wineries of Jacksonville
REFRESH-INTERVAL;VALUE=DURATION:PT1H
X-Robots-Tag:noindex
X-PUBLISHED-TTL:PT1H
BEGIN:VTIMEZONE
TZID:UTC
BEGIN:STANDARD
TZOFFSETFROM:+0000
TZOFFSETTO:+0000
TZNAME:UTC
DTSTART:20250101T000000
END:STANDARD
END:VTIMEZONE
BEGIN:VEVENT
DTSTART;TZID=UTC:20261203T180000
DTEND;TZID=UTC:20261203T200000
DTSTAMP:20260420T152322
CREATED:20260407T022605Z
LAST-MODIFIED:20260407T022605Z
UID:10000905-1796320800-1796328000@jacksonvillewine.com
SUMMARY:Cribbage Night @ Rellik Winery
DESCRIPTION:December begins with our weekly Thursday cribbage night.
URL:https://jacksonvillewine.com/event/cribbage-night-rellik-winery-16/
LOCATION:Rellik Winery\, 970 Old Stage Rd\, Central Point\, 97502\, United States
END:VEVENT
BEGIN:VEVENT
DTSTART;TZID=UTC:20261204T163000
DTEND;TZID=UTC:20261204T183000
DTSTAMP:20260420T152322
CREATED:20260407T003002Z
LAST-MODIFIED:20260407T003002Z
UID:10000563-1796401800-1796409000@jacksonvillewine.com
SUMMARY:Friday Night Live Music
DESCRIPTION:
URL:https://jacksonvillewine.com/event/friday-night-live-music-5/
END:VEVENT
BEGIN:VEVENT
DTSTART;TZID=UTC:20261204T170000
DTEND;TZID=UTC:20261204T190000
DTSTAMP:20260420T152322
CREATED:20260407T000239Z
LAST-MODIFIED:20260407T000239Z
UID:10000463-1796403600-1796410800@jacksonvillewine.com
SUMMARY:Jeff Kloetzel
DESCRIPTION:
URL:https://jacksonvillewine.com/event/jeff-kloetzel-9/
END:VEVENT
BEGIN:VEVENT
DTSTART;TZID=UTC:20261204T170000
DTEND;TZID=UTC:20261204T190000
DTSTAMP:20260420T152322
CREATED:20260407T014649Z
LAST-MODIFIED:20260407T014649Z
UID:10000644-1796403600-1796410800@jacksonvillewine.com
SUMMARY:Jeff Kloetzel @ Dancin Vineyards
DESCRIPTION:
URL:https://jacksonvillewine.com/event/jeff-kloetzel-dancin-vineyards-9/
LOCATION:Dancin Vineyards\, 4477 S Stage Rd\, Medford\, OR\, 97501\, United States
END:VEVENT
BEGIN:VEVENT
DTSTART;TZID=UTC:20261206T103000
DTEND;TZID=UTC:20261206T130000
DTSTAMP:20260420T152322
CREATED:20260407T022606Z
LAST-MODIFIED:20260407T022606Z
UID:10000906-1796553000-1796562000@jacksonvillewine.com
SUMMARY:Brunch @ Rellik Winery
DESCRIPTION:Festive holiday brunching at our Medford winery.
URL:https://jacksonvillewine.com/event/brunch-rellik-winery-35/
LOCATION:Rellik Winery\, 970 Old Stage Rd\, Central Point\, 97502\, United States
END:VEVENT
BEGIN:VEVENT
DTSTART;TZID=UTC:20261211T163000
DTEND;TZID=UTC:20261211T183000
DTSTAMP:20260420T152322
CREATED:20260407T003004Z
LAST-MODIFIED:20260407T003004Z
UID:10000564-1797006600-1797013800@jacksonvillewine.com
SUMMARY:Friday Night Live Music
DESCRIPTION:
URL:https://jacksonvillewine.com/event/friday-night-live-music-6/
END:VEVENT
BEGIN:VEVENT
DTSTART;TZID=UTC:20261211T170000
DTEND;TZID=UTC:20261211T190000
DTSTAMP:20260420T152322
CREATED:20260407T000239Z
LAST-MODIFIED:20260407T000239Z
UID:10000464-1797008400-1797015600@jacksonvillewine.com
SUMMARY:Lisa and Dean
DESCRIPTION:
URL:https://jacksonvillewine.com/event/lisa-and-dean-10/
END:VEVENT
BEGIN:VEVENT
DTSTART;TZID=UTC:20261211T170000
DTEND;TZID=UTC:20261211T190000
DTSTAMP:20260420T152322
CREATED:20260407T014650Z
LAST-MODIFIED:20260407T014650Z
UID:10000645-1797008400-1797015600@jacksonvillewine.com
SUMMARY:Lisa and Dean @ Dancin Vineyards
DESCRIPTION:
URL:https://jacksonvillewine.com/event/lisa-and-dean-dancin-vineyards-10/
LOCATION:Dancin Vineyards\, 4477 S Stage Rd\, Medford\, OR\, 97501\, United States
END:VEVENT
BEGIN:VEVENT
DTSTART;TZID=UTC:20261213T103000
DTEND;TZID=UTC:20261213T130000
DTSTAMP:20260420T152322
CREATED:20260407T022607Z
LAST-MODIFIED:20260407T022607Z
UID:10000907-1797157800-1797166800@jacksonvillewine.com
SUMMARY:Brunch @ Rellik Winery
DESCRIPTION:Join us for a cozy Sunday morning at the vineyard.
URL:https://jacksonvillewine.com/event/brunch-rellik-winery-36/
LOCATION:Rellik Winery\, 970 Old Stage Rd\, Central Point\, 97502\, United States
END:VEVENT
BEGIN:VEVENT
DTSTART;TZID=UTC:20261217T180000
DTEND;TZID=UTC:20261217T200000
DTSTAMP:20260420T152322
CREATED:20260407T022619Z
LAST-MODIFIED:20260407T022619Z
UID:10000908-1797530400-1797537600@jacksonvillewine.com
SUMMARY:Cribbage Night @ Rellik Winery
DESCRIPTION:Friendly games and great wine at our weekly cribbage league.
URL:https://jacksonvillewine.com/event/cribbage-night-rellik-winery-17/
LOCATION:Rellik Winery\, 970 Old Stage Rd\, Central Point\, 97502\, United States
END:VEVENT
BEGIN:VEVENT
DTSTART;TZID=UTC:20261218T163000
DTEND;TZID=UTC:20261218T183000
DTSTAMP:20260420T152322
CREATED:20260407T003004Z
LAST-MODIFIED:20260407T003004Z
UID:10000565-1797611400-1797618600@jacksonvillewine.com
SUMMARY:Friday Night Live Music
DESCRIPTION:
URL:https://jacksonvillewine.com/event/friday-night-live-music-7/
END:VEVENT
BEGIN:VEVENT
DTSTART;TZID=UTC:20261218T170000
DTEND;TZID=UTC:20261218T190000
DTSTAMP:20260420T152322
CREATED:20260407T000251Z
LAST-MODIFIED:20260407T000251Z
UID:10000465-1797613200-1797620400@jacksonvillewine.com
SUMMARY:JustaDuo
DESCRIPTION:
URL:https://jacksonvillewine.com/event/justaduo-6/
END:VEVENT
BEGIN:VEVENT
DTSTART;TZID=UTC:20261219T160000
DTEND;TZID=UTC:20261219T180000
DTSTAMP:20260420T152322
CREATED:20260407T022620Z
LAST-MODIFIED:20260407T022620Z
UID:10000909-1797696000-1797703200@jacksonvillewine.com
SUMMARY:The Giantess @ Rellik Winery
DESCRIPTION:A soulful Saturday afternoon performance by The Giantess.
URL:https://jacksonvillewine.com/event/the-giantess-rellik-winery-9/
LOCATION:Rellik Winery\, 970 Old Stage Rd\, Central Point\, 97502\, United States
END:VEVENT
BEGIN:VEVENT
DTSTART;TZID=UTC:20261220T103000
DTEND;TZID=UTC:20261220T130000
DTSTAMP:20260420T152322
CREATED:20260407T022620Z
LAST-MODIFIED:20260407T022620Z
UID:10000910-1797762600-1797771600@jacksonvillewine.com
SUMMARY:Brunch @ Rellik Winery
DESCRIPTION:The final Sunday brunch before the Christmas holiday.
URL:https://jacksonvillewine.com/event/brunch-rellik-winery-37/
LOCATION:Rellik Winery\, 970 Old Stage Rd\, Central Point\, 97502\, United States
END:VEVENT
BEGIN:VEVENT
DTSTART;TZID=UTC:20261220T160000
DTEND;TZID=UTC:20261220T180000
DTSTAMP:20260420T152322
CREATED:20260407T022621Z
LAST-MODIFIED:20260407T022621Z
UID:10000911-1797782400-1797789600@jacksonvillewine.com
SUMMARY:David Pinsky & Phil Newton @ Rellik Winery
DESCRIPTION:World-class blues to warm up your Sunday afternoon.
URL:https://jacksonvillewine.com/event/david-pinsky-phil-newton-rellik-winery-9/
LOCATION:Rellik Winery\, 970 Old Stage Rd\, Central Point\, 97502\, United States
END:VEVENT
END:VCALENDAR