BEGIN:VCALENDAR
VERSION:2.0
PRODID:-//The Wineries of Jacksonville - ECPv6.15.20//NONSGML v1.0//EN
CALSCALE:GREGORIAN
METHOD:PUBLISH
X-ORIGINAL-URL:https://jacksonvillewine.com
X-WR-CALDESC:Events for The Wineries of Jacksonville
REFRESH-INTERVAL;VALUE=DURATION:PT1H
X-Robots-Tag:noindex
X-PUBLISHED-TTL:PT1H
BEGIN:VTIMEZONE
TZID:UTC
BEGIN:STANDARD
TZOFFSETFROM:+0000
TZOFFSETTO:+0000
TZNAME:UTC
DTSTART:20250101T000000
END:STANDARD
END:VTIMEZONE
BEGIN:VEVENT
DTSTART;TZID=UTC:20260705T140000
DTEND;TZID=UTC:20260705T160000
DTSTAMP:20260420T110054
CREATED:20260407T015440Z
LAST-MODIFIED:20260407T015440Z
UID:10000699-1783260000-1783267200@jacksonvillewine.com
SUMMARY:Just A Duo @ Daisy Creek Vineyards
DESCRIPTION:
URL:https://jacksonvillewine.com/event/just-a-duo-daisy-creek-vineyards-2/
END:VEVENT
BEGIN:VEVENT
DTSTART;TZID=UTC:20260710T163000
DTEND;TZID=UTC:20260710T183000
DTSTAMP:20260420T110054
CREATED:20260407T015441Z
LAST-MODIFIED:20260407T015441Z
UID:10000700-1783701000-1783708200@jacksonvillewine.com
SUMMARY:Jimmy Limo @ Daisy Creek Vineyards
DESCRIPTION:
URL:https://jacksonvillewine.com/event/jimmy-limo-daisy-creek-vineyards-2/
END:VEVENT
BEGIN:VEVENT
DTSTART;TZID=UTC:20260712T140000
DTEND;TZID=UTC:20260712T160000
DTSTAMP:20260420T110054
CREATED:20260407T015442Z
LAST-MODIFIED:20260407T015442Z
UID:10000701-1783864800-1783872000@jacksonvillewine.com
SUMMARY:Jeff Kloetzel @ Daisy Creek Vineyards
DESCRIPTION:
URL:https://jacksonvillewine.com/event/jeff-kloetzel-daisy-creek-vineyards-3/
END:VEVENT
BEGIN:VEVENT
DTSTART;TZID=UTC:20260717T163000
DTEND;TZID=UTC:20260717T183000
DTSTAMP:20260420T110054
CREATED:20260407T015443Z
LAST-MODIFIED:20260407T015443Z
UID:10000702-1784305800-1784313000@jacksonvillewine.com
SUMMARY:Robbie Dacosta @ Daisy Creek Vineyards
DESCRIPTION:
URL:https://jacksonvillewine.com/event/robbie-dacosta-daisy-creek-vineyards-2/
END:VEVENT
BEGIN:VEVENT
DTSTART;TZID=UTC:20260724T163000
DTEND;TZID=UTC:20260724T183000
DTSTAMP:20260420T110054
CREATED:20260407T015443Z
LAST-MODIFIED:20260407T015443Z
UID:10000703-1784910600-1784917800@jacksonvillewine.com
SUMMARY:Jen Ambrose & Jon Galfano @ Daisy Creek Vineyards
DESCRIPTION:
URL:https://jacksonvillewine.com/event/jen-ambrose-jon-galfano-daisy-creek-vineyards-2/
END:VEVENT
BEGIN:VEVENT
DTSTART;TZID=UTC:20260726T140000
DTEND;TZID=UTC:20260726T160000
DTSTAMP:20260420T110054
CREATED:20260407T015641Z
LAST-MODIFIED:20260407T015641Z
UID:10000704-1785074400-1785081600@jacksonvillewine.com
SUMMARY:Nick & Shae @ Daisy Creek Vineyards
DESCRIPTION:
URL:https://jacksonvillewine.com/event/nick-shae-daisy-creek-vineyards-4/
END:VEVENT
BEGIN:VEVENT
DTSTART;TZID=UTC:20260731T163000
DTEND;TZID=UTC:20260731T183000
DTSTAMP:20260420T110054
CREATED:20260407T015642Z
LAST-MODIFIED:20260407T015642Z
UID:10000705-1785515400-1785522600@jacksonvillewine.com
SUMMARY:J Brothers @ Daisy Creek Vineyards
DESCRIPTION:
URL:https://jacksonvillewine.com/event/j-brothers-daisy-creek-vineyards-3/
END:VEVENT
END:VCALENDAR