BEGIN:VCALENDAR
VERSION:2.0
PRODID:-//The Wineries of Jacksonville - ECPv6.15.20//NONSGML v1.0//EN
CALSCALE:GREGORIAN
METHOD:PUBLISH
X-WR-CALNAME:The Wineries of Jacksonville
X-ORIGINAL-URL:https://jacksonvillewine.com
X-WR-CALDESC:Events for The Wineries of Jacksonville
REFRESH-INTERVAL;VALUE=DURATION:PT1H
X-Robots-Tag:noindex
X-PUBLISHED-TTL:PT1H
BEGIN:VTIMEZONE
TZID:UTC
BEGIN:STANDARD
TZOFFSETFROM:+0000
TZOFFSETTO:+0000
TZNAME:UTC
DTSTART:20250101T000000
END:STANDARD
END:VTIMEZONE
BEGIN:VEVENT
DTSTART;TZID=UTC:20260906T140000
DTEND;TZID=UTC:20260906T160000
DTSTAMP:20260420T140422
CREATED:20260407T015728Z
LAST-MODIFIED:20260407T015728Z
UID:10000715-1788703200-1788710400@jacksonvillewine.com
SUMMARY:Shybo & The Twisted Vines @ Daisy Creek Vineyards
DESCRIPTION:
URL:https://jacksonvillewine.com/event/shybo-the-twisted-vines-daisy-creek-vineyards-2/
END:VEVENT
BEGIN:VEVENT
DTSTART;TZID=UTC:20260911T163000
DTEND;TZID=UTC:20260911T183000
DTSTAMP:20260420T140422
CREATED:20260407T015729Z
LAST-MODIFIED:20260407T015729Z
UID:10000716-1789144200-1789151400@jacksonvillewine.com
SUMMARY:Giantess @ Daisy Creek Vineyards
DESCRIPTION:
URL:https://jacksonvillewine.com/event/giantess-daisy-creek-vineyards-3/
END:VEVENT
BEGIN:VEVENT
DTSTART;TZID=UTC:20260913T140000
DTEND;TZID=UTC:20260913T160000
DTSTAMP:20260420T140422
CREATED:20260407T015730Z
LAST-MODIFIED:20260407T015730Z
UID:10000717-1789308000-1789315200@jacksonvillewine.com
SUMMARY:J Brothers @ Daisy Creek Vineyards
DESCRIPTION:
URL:https://jacksonvillewine.com/event/j-brothers-daisy-creek-vineyards-4/
END:VEVENT
BEGIN:VEVENT
DTSTART;TZID=UTC:20260918T163000
DTEND;TZID=UTC:20260918T183000
DTSTAMP:20260420T140422
CREATED:20260407T015731Z
LAST-MODIFIED:20260407T015731Z
UID:10000718-1789749000-1789756200@jacksonvillewine.com
SUMMARY:Jen Ambrose @ Daisy Creek Vineyards
DESCRIPTION:
URL:https://jacksonvillewine.com/event/jen-ambrose-daisy-creek-vineyards/
END:VEVENT
BEGIN:VEVENT
DTSTART;TZID=UTC:20260920T140000
DTEND;TZID=UTC:20260920T160000
DTSTAMP:20260420T140422
CREATED:20260407T015742Z
LAST-MODIFIED:20260407T015742Z
UID:10000719-1789912800-1789920000@jacksonvillewine.com
SUMMARY:Jeff Kloetzel @ Daisy Creek Vineyards
DESCRIPTION:
URL:https://jacksonvillewine.com/event/jeff-kloetzel-daisy-creek-vineyards-5/
END:VEVENT
BEGIN:VEVENT
DTSTART;TZID=UTC:20260925T163000
DTEND;TZID=UTC:20260925T183000
DTSTAMP:20260420T140422
CREATED:20260407T015742Z
LAST-MODIFIED:20260407T015742Z
UID:10000720-1790353800-1790361000@jacksonvillewine.com
SUMMARY:Jimmy Limo @ Daisy Creek Vineyards
DESCRIPTION:
URL:https://jacksonvillewine.com/event/jimmy-limo-daisy-creek-vineyards-3/
END:VEVENT
BEGIN:VEVENT
DTSTART;TZID=UTC:20260927T140000
DTEND;TZID=UTC:20260927T160000
DTSTAMP:20260420T140422
CREATED:20260407T015743Z
LAST-MODIFIED:20260407T015743Z
UID:10000721-1790517600-1790524800@jacksonvillewine.com
SUMMARY:Nick & Shae @ Daisy Creek Vineyards
DESCRIPTION:
URL:https://jacksonvillewine.com/event/nick-shae-daisy-creek-vineyards-6/
END:VEVENT
END:VCALENDAR