BEGIN:VCALENDAR
VERSION:2.0
PRODID:-//The Wineries of Jacksonville - ECPv6.15.20//NONSGML v1.0//EN
CALSCALE:GREGORIAN
METHOD:PUBLISH
X-WR-CALNAME:The Wineries of Jacksonville
X-ORIGINAL-URL:https://jacksonvillewine.com
X-WR-CALDESC:Events for The Wineries of Jacksonville
REFRESH-INTERVAL;VALUE=DURATION:PT1H
X-Robots-Tag:noindex
X-PUBLISHED-TTL:PT1H
BEGIN:VTIMEZONE
TZID:UTC
BEGIN:STANDARD
TZOFFSETFROM:+0000
TZOFFSETTO:+0000
TZNAME:UTC
DTSTART:20250101T000000
END:STANDARD
END:VTIMEZONE
BEGIN:VEVENT
DTSTART;TZID=UTC:20260803T170000
DTEND;TZID=UTC:20260803T190000
DTSTAMP:20260420T123153
CREATED:20260407T014350Z
LAST-MODIFIED:20260407T014350Z
UID:10000607-1785776400-1785783600@jacksonvillewine.com
SUMMARY:Shae and Jenni @ Dancin Vineyards
DESCRIPTION:
URL:https://jacksonvillewine.com/event/shae-and-jenni-dancin-vineyards-7/
LOCATION:Dancin Vineyards\, 4477 S Stage Rd\, Medford\, OR\, 97501\, United States
END:VEVENT
BEGIN:VEVENT
DTSTART;TZID=UTC:20260805T170000
DTEND;TZID=UTC:20260805T190000
DTSTAMP:20260420T123153
CREATED:20260407T014350Z
LAST-MODIFIED:20260407T014350Z
UID:10000608-1785949200-1785956400@jacksonvillewine.com
SUMMARY:Jared Gutridge – Solo @ Dancin Vineyards
DESCRIPTION:
URL:https://jacksonvillewine.com/event/jared-gutridge-solo-dancin-vineyards-3/
LOCATION:Dancin Vineyards\, 4477 S Stage Rd\, Medford\, OR\, 97501\, United States
END:VEVENT
BEGIN:VEVENT
DTSTART;TZID=UTC:20260807T170000
DTEND;TZID=UTC:20260807T190000
DTSTAMP:20260420T123153
CREATED:20260407T014351Z
LAST-MODIFIED:20260407T014351Z
UID:10000609-1786122000-1786129200@jacksonvillewine.com
SUMMARY:Jeff Kloetzel @ Dancin Vineyards
DESCRIPTION:
URL:https://jacksonvillewine.com/event/jeff-kloetzel-dancin-vineyards-5/
LOCATION:Dancin Vineyards\, 4477 S Stage Rd\, Medford\, OR\, 97501\, United States
END:VEVENT
BEGIN:VEVENT
DTSTART;TZID=UTC:20260810T170000
DTEND;TZID=UTC:20260810T190000
DTSTAMP:20260420T123153
CREATED:20260407T014352Z
LAST-MODIFIED:20260407T014352Z
UID:10000610-1786381200-1786388400@jacksonvillewine.com
SUMMARY:JustaDuo @ Dancin Vineyards
DESCRIPTION:
URL:https://jacksonvillewine.com/event/justaduo-dancin-vineyards-4/
LOCATION:Dancin Vineyards\, 4477 S Stage Rd\, Medford\, OR\, 97501\, United States
END:VEVENT
BEGIN:VEVENT
DTSTART;TZID=UTC:20260812T170000
DTEND;TZID=UTC:20260812T190000
DTSTAMP:20260420T123153
CREATED:20260407T014404Z
LAST-MODIFIED:20260407T014404Z
UID:10000611-1786554000-1786561200@jacksonvillewine.com
SUMMARY:Mercy Duo @ Dancin Vineyards
DESCRIPTION:
URL:https://jacksonvillewine.com/event/mercy-duo-dancin-vineyards-4/
LOCATION:Dancin Vineyards\, 4477 S Stage Rd\, Medford\, OR\, 97501\, United States
END:VEVENT
BEGIN:VEVENT
DTSTART;TZID=UTC:20260814T170000
DTEND;TZID=UTC:20260814T190000
DTSTAMP:20260420T123153
CREATED:20260407T014405Z
LAST-MODIFIED:20260407T014405Z
UID:10000612-1786726800-1786734000@jacksonvillewine.com
SUMMARY:Giantess @ Dancin Vineyards
DESCRIPTION:
URL:https://jacksonvillewine.com/event/giantess-dancin-vineyards-3/
LOCATION:Dancin Vineyards\, 4477 S Stage Rd\, Medford\, OR\, 97501\, United States
END:VEVENT
BEGIN:VEVENT
DTSTART;TZID=UTC:20260817T170000
DTEND;TZID=UTC:20260817T190000
DTSTAMP:20260420T123153
CREATED:20260407T014406Z
LAST-MODIFIED:20260407T014406Z
UID:10000613-1786986000-1786993200@jacksonvillewine.com
SUMMARY:Lisa and Dean @ Dancin Vineyards
DESCRIPTION:
URL:https://jacksonvillewine.com/event/lisa-and-dean-dancin-vineyards-6/
LOCATION:Dancin Vineyards\, 4477 S Stage Rd\, Medford\, OR\, 97501\, United States
END:VEVENT
BEGIN:VEVENT
DTSTART;TZID=UTC:20260819T170000
DTEND;TZID=UTC:20260819T190000
DTSTAMP:20260420T123153
CREATED:20260407T014406Z
LAST-MODIFIED:20260407T014406Z
UID:10000614-1787158800-1787166000@jacksonvillewine.com
SUMMARY:Shae and Jenni @ Dancin Vineyards
DESCRIPTION:
URL:https://jacksonvillewine.com/event/shae-and-jenni-dancin-vineyards-8/
LOCATION:Dancin Vineyards\, 4477 S Stage Rd\, Medford\, OR\, 97501\, United States
END:VEVENT
BEGIN:VEVENT
DTSTART;TZID=UTC:20260821T170000
DTEND;TZID=UTC:20260821T190000
DTSTAMP:20260420T123153
CREATED:20260407T014407Z
LAST-MODIFIED:20260407T014407Z
UID:10000615-1787331600-1787338800@jacksonvillewine.com
SUMMARY:Jared Gutridge – Duo @ Dancin Vineyards
DESCRIPTION:
URL:https://jacksonvillewine.com/event/jared-gutridge-duo-dancin-vineyards-3/
LOCATION:Dancin Vineyards\, 4477 S Stage Rd\, Medford\, OR\, 97501\, United States
END:VEVENT
BEGIN:VEVENT
DTSTART;TZID=UTC:20260828T170000
DTEND;TZID=UTC:20260828T190000
DTSTAMP:20260420T123153
CREATED:20260407T014420Z
LAST-MODIFIED:20260407T014420Z
UID:10000616-1787936400-1787943600@jacksonvillewine.com
SUMMARY:Danielle Kelly & Paul Turnipseed @ Dancin Vineyards
DESCRIPTION:
URL:https://jacksonvillewine.com/event/danielle-kelly-paul-turnipseed-dancin-vineyards-6/
LOCATION:Dancin Vineyards\, 4477 S Stage Rd\, Medford\, OR\, 97501\, United States
END:VEVENT
BEGIN:VEVENT
DTSTART;TZID=UTC:20260831T170000
DTEND;TZID=UTC:20260831T190000
DTSTAMP:20260420T123153
CREATED:20260407T014421Z
LAST-MODIFIED:20260407T014421Z
UID:10000617-1788195600-1788202800@jacksonvillewine.com
SUMMARY:Allison and Victor @ Dancin Vineyards
DESCRIPTION:
URL:https://jacksonvillewine.com/event/allison-and-victor-dancin-vineyards-3/
LOCATION:Dancin Vineyards\, 4477 S Stage Rd\, Medford\, OR\, 97501\, United States
END:VEVENT
END:VCALENDAR