BEGIN:VCALENDAR
VERSION:2.0
PRODID:-//The Wineries of Jacksonville - ECPv6.15.20//NONSGML v1.0//EN
CALSCALE:GREGORIAN
METHOD:PUBLISH
X-WR-CALNAME:The Wineries of Jacksonville
X-ORIGINAL-URL:https://jacksonvillewine.com
X-WR-CALDESC:Events for The Wineries of Jacksonville
REFRESH-INTERVAL;VALUE=DURATION:PT1H
X-Robots-Tag:noindex
X-PUBLISHED-TTL:PT1H
BEGIN:VTIMEZONE
TZID:UTC
BEGIN:STANDARD
TZOFFSETFROM:+0000
TZOFFSETTO:+0000
TZNAME:UTC
DTSTART:20250101T000000
END:STANDARD
END:VTIMEZONE
BEGIN:VEVENT
DTSTART;TZID=UTC:20261106T170000
DTEND;TZID=UTC:20261106T190000
DTSTAMP:20260420T170459
CREATED:20260407T014635Z
LAST-MODIFIED:20260407T014635Z
UID:10000640-1793984400-1793991600@jacksonvillewine.com
SUMMARY:David Pinsky & Phil Newton @ Dancin Vineyards
DESCRIPTION:
URL:https://jacksonvillewine.com/event/david-pinsky-phil-newton-dancin-vineyards-5/
LOCATION:Dancin Vineyards\, 4477 S Stage Rd\, Medford\, OR\, 97501\, United States
END:VEVENT
BEGIN:VEVENT
DTSTART;TZID=UTC:20261113T170000
DTEND;TZID=UTC:20261113T190000
DTSTAMP:20260420T170459
CREATED:20260407T014647Z
LAST-MODIFIED:20260407T014647Z
UID:10000641-1794589200-1794596400@jacksonvillewine.com
SUMMARY:Jeff Kloetzel @ Dancin Vineyards
DESCRIPTION:
URL:https://jacksonvillewine.com/event/jeff-kloetzel-dancin-vineyards-8/
LOCATION:Dancin Vineyards\, 4477 S Stage Rd\, Medford\, OR\, 97501\, United States
END:VEVENT
BEGIN:VEVENT
DTSTART;TZID=UTC:20261120T170000
DTEND;TZID=UTC:20261120T190000
DTSTAMP:20260420T170459
CREATED:20260407T014648Z
LAST-MODIFIED:20260407T014648Z
UID:10000642-1795194000-1795201200@jacksonvillewine.com
SUMMARY:Lisa and Dean @ Dancin Vineyards
DESCRIPTION:
URL:https://jacksonvillewine.com/event/lisa-and-dean-dancin-vineyards-9/
LOCATION:Dancin Vineyards\, 4477 S Stage Rd\, Medford\, OR\, 97501\, United States
END:VEVENT
BEGIN:VEVENT
DTSTART;TZID=UTC:20261127T170000
DTEND;TZID=UTC:20261127T190000
DTSTAMP:20260420T170459
CREATED:20260407T014648Z
LAST-MODIFIED:20260407T014648Z
UID:10000643-1795798800-1795806000@jacksonvillewine.com
SUMMARY:Jared Gutridge – Solo @ Dancin Vineyards
DESCRIPTION:
URL:https://jacksonvillewine.com/event/jared-gutridge-solo-dancin-vineyards-6/
LOCATION:Dancin Vineyards\, 4477 S Stage Rd\, Medford\, OR\, 97501\, United States
END:VEVENT
END:VCALENDAR