BEGIN:VCALENDAR
VERSION:2.0
PRODID:-//The Wineries of Jacksonville - ECPv6.15.20//NONSGML v1.0//EN
CALSCALE:GREGORIAN
METHOD:PUBLISH
X-WR-CALNAME:The Wineries of Jacksonville
X-ORIGINAL-URL:https://jacksonvillewine.com
X-WR-CALDESC:Events for The Wineries of Jacksonville
REFRESH-INTERVAL;VALUE=DURATION:PT1H
X-Robots-Tag:noindex
X-PUBLISHED-TTL:PT1H
BEGIN:VTIMEZONE
TZID:UTC
BEGIN:STANDARD
TZOFFSETFROM:+0000
TZOFFSETTO:+0000
TZNAME:UTC
DTSTART:20250101T000000
END:STANDARD
END:VTIMEZONE
BEGIN:VEVENT
DTSTART;TZID=UTC:20260702T180000
DTEND;TZID=UTC:20260702T200000
DTSTAMP:20260420T104808
CREATED:20260407T022104Z
LAST-MODIFIED:20260407T022104Z
UID:10000798-1783015200-1783022400@jacksonvillewine.com
SUMMARY:Cribbage Night @ Rellik Winery
DESCRIPTION:Kick off the holiday weekend with cribbage and wine.
URL:https://jacksonvillewine.com/event/cribbage-night-rellik-winery-6/
LOCATION:Rellik Winery\, 970 Old Stage Rd\, Central Point\, 97502\, United States
END:VEVENT
BEGIN:VEVENT
DTSTART;TZID=UTC:20260703T170000
DTEND;TZID=UTC:20260703T190000
DTSTAMP:20260420T104808
CREATED:20260407T022105Z
LAST-MODIFIED:20260407T022105Z
UID:10000799-1783098000-1783105200@jacksonvillewine.com
SUMMARY:Enoch & David @ Rellik Winery
DESCRIPTION:Enjoy the collaborative sounds of Enoch & David this Friday.
URL:https://jacksonvillewine.com/event/enoch-david-rellik-winery/
LOCATION:Rellik Winery\, 970 Old Stage Rd\, Central Point\, 97502\, United States
END:VEVENT
BEGIN:VEVENT
DTSTART;TZID=UTC:20260704T153000
DTEND;TZID=UTC:20260704T183000
DTSTAMP:20260420T104808
CREATED:20260407T022106Z
LAST-MODIFIED:20260407T022106Z
UID:10000800-1783179000-1783189800@jacksonvillewine.com
SUMMARY:Saturday BBQ @ Rellik Winery
DESCRIPTION:Celebrate the 4th of July with BBQ and estate wine.
URL:https://jacksonvillewine.com/event/saturday-bbq-rellik-winery-5/
LOCATION:Rellik Winery\, 970 Old Stage Rd\, Central Point\, 97502\, United States
END:VEVENT
BEGIN:VEVENT
DTSTART;TZID=UTC:20260705T103000
DTEND;TZID=UTC:20260705T130000
DTSTAMP:20260420T104808
CREATED:20260407T022107Z
LAST-MODIFIED:20260407T022107Z
UID:10000801-1783247400-1783256400@jacksonvillewine.com
SUMMARY:Brunch @ Rellik Winery
DESCRIPTION:Post-holiday relaxation with a signature Sunday vineyard brunch.
URL:https://jacksonvillewine.com/event/brunch-rellik-winery-13/
LOCATION:Rellik Winery\, 970 Old Stage Rd\, Central Point\, 97502\, United States
END:VEVENT
BEGIN:VEVENT
DTSTART;TZID=UTC:20260705T160000
DTEND;TZID=UTC:20260705T180000
DTSTAMP:20260420T104808
CREATED:20260407T022108Z
LAST-MODIFIED:20260407T022108Z
UID:10000802-1783267200-1783274400@jacksonvillewine.com
SUMMARY:Pozitronics @ Rellik Winery
DESCRIPTION:Sunday evening music with the great sounds of Pozitronics.
URL:https://jacksonvillewine.com/event/pozitronics-rellik-winery-2/
LOCATION:Rellik Winery\, 970 Old Stage Rd\, Central Point\, 97502\, United States
END:VEVENT
BEGIN:VEVENT
DTSTART;TZID=UTC:20260710T170000
DTEND;TZID=UTC:20260710T190000
DTSTAMP:20260420T104808
CREATED:20260407T022119Z
LAST-MODIFIED:20260407T022119Z
UID:10000803-1783702800-1783710000@jacksonvillewine.com
SUMMARY:Mark Charles Hill @ Rellik Winery
DESCRIPTION:Mark Charles Hill brings his unique musical talent to our tasting room.
URL:https://jacksonvillewine.com/event/mark-charles-hill-rellik-winery/
LOCATION:Rellik Winery\, 970 Old Stage Rd\, Central Point\, 97502\, United States
END:VEVENT
BEGIN:VEVENT
DTSTART;TZID=UTC:20260711T153000
DTEND;TZID=UTC:20260711T183000
DTSTAMP:20260420T104808
CREATED:20260407T022120Z
LAST-MODIFIED:20260407T022120Z
UID:10000804-1783783800-1783794600@jacksonvillewine.com
SUMMARY:Saturday BBQ @ Rellik Winery
DESCRIPTION:Summer Saturday BBQ: house-made dishes and award-winning wine.
URL:https://jacksonvillewine.com/event/saturday-bbq-rellik-winery-6/
LOCATION:Rellik Winery\, 970 Old Stage Rd\, Central Point\, 97502\, United States
END:VEVENT
BEGIN:VEVENT
DTSTART;TZID=UTC:20260711T160000
DTEND;TZID=UTC:20260711T180000
DTSTAMP:20260420T104808
CREATED:20260407T022121Z
LAST-MODIFIED:20260407T022121Z
UID:10000805-1783785600-1783792800@jacksonvillewine.com
SUMMARY:Alois Trio @ Rellik Winery
DESCRIPTION:Jazz and acoustic vibes with the Alois Trio this Saturday.
URL:https://jacksonvillewine.com/event/alois-trio-rellik-winery-3/
LOCATION:Rellik Winery\, 970 Old Stage Rd\, Central Point\, 97502\, United States
END:VEVENT
BEGIN:VEVENT
DTSTART;TZID=UTC:20260712T103000
DTEND;TZID=UTC:20260712T130000
DTSTAMP:20260420T104808
CREATED:20260407T022121Z
LAST-MODIFIED:20260407T022121Z
UID:10000806-1783852200-1783861200@jacksonvillewine.com
SUMMARY:Brunch @ Rellik Winery
DESCRIPTION:Join us for a beautiful Sunday morning at the winery.
URL:https://jacksonvillewine.com/event/brunch-rellik-winery-14/
LOCATION:Rellik Winery\, 970 Old Stage Rd\, Central Point\, 97502\, United States
END:VEVENT
BEGIN:VEVENT
DTSTART;TZID=UTC:20260712T160000
DTEND;TZID=UTC:20260712T180000
DTSTAMP:20260420T104808
CREATED:20260407T022122Z
LAST-MODIFIED:20260407T022122Z
UID:10000807-1783872000-1783879200@jacksonvillewine.com
SUMMARY:Just A Duo @ Rellik Winery
DESCRIPTION:Live music and local wine make for a perfect Sunday afternoon.
URL:https://jacksonvillewine.com/event/just-a-duo-rellik-winery-2/
LOCATION:Rellik Winery\, 970 Old Stage Rd\, Central Point\, 97502\, United States
END:VEVENT
BEGIN:VEVENT
DTSTART;TZID=UTC:20260716T180000
DTEND;TZID=UTC:20260716T200000
DTSTAMP:20260420T104808
CREATED:20260407T022134Z
LAST-MODIFIED:20260407T022134Z
UID:10000808-1784224800-1784232000@jacksonvillewine.com
SUMMARY:Cribbage Night @ Rellik Winery
DESCRIPTION:Friendly competition and great wine at our weekly cribbage night.
URL:https://jacksonvillewine.com/event/cribbage-night-rellik-winery-7/
LOCATION:Rellik Winery\, 970 Old Stage Rd\, Central Point\, 97502\, United States
END:VEVENT
BEGIN:VEVENT
DTSTART;TZID=UTC:20260717T160000
DTEND;TZID=UTC:20260717T180000
DTSTAMP:20260420T104808
CREATED:20260407T022135Z
LAST-MODIFIED:20260407T022135Z
UID:10000809-1784304000-1784311200@jacksonvillewine.com
SUMMARY:Mike Brons @ Rellik Winery
DESCRIPTION:Catch an earlier set from Mike Brons this Friday afternoon.
URL:https://jacksonvillewine.com/event/mike-brons-rellik-winery-6/
LOCATION:Rellik Winery\, 970 Old Stage Rd\, Central Point\, 97502\, United States
END:VEVENT
BEGIN:VEVENT
DTSTART;TZID=UTC:20260718T153000
DTEND;TZID=UTC:20260718T183000
DTSTAMP:20260420T104808
CREATED:20260407T022136Z
LAST-MODIFIED:20260407T022136Z
UID:10000810-1784388600-1784399400@jacksonvillewine.com
SUMMARY:Saturday BBQ @ Rellik Winery
DESCRIPTION:Our popular Saturday BBQ continues through the peak of summer.
URL:https://jacksonvillewine.com/event/saturday-bbq-rellik-winery-7/
LOCATION:Rellik Winery\, 970 Old Stage Rd\, Central Point\, 97502\, United States
END:VEVENT
BEGIN:VEVENT
DTSTART;TZID=UTC:20260718T160000
DTEND;TZID=UTC:20260718T180000
DTSTAMP:20260420T104808
CREATED:20260407T022137Z
LAST-MODIFIED:20260407T022137Z
UID:10000811-1784390400-1784397600@jacksonvillewine.com
SUMMARY:The Giantess @ Rellik Winery
DESCRIPTION:Soulful music and scenic views with The Giantess.
URL:https://jacksonvillewine.com/event/the-giantess-rellik-winery-4/
LOCATION:Rellik Winery\, 970 Old Stage Rd\, Central Point\, 97502\, United States
END:VEVENT
BEGIN:VEVENT
DTSTART;TZID=UTC:20260719T103000
DTEND;TZID=UTC:20260719T130000
DTSTAMP:20260420T104808
CREATED:20260407T022138Z
LAST-MODIFIED:20260407T022138Z
UID:10000812-1784457000-1784466000@jacksonvillewine.com
SUMMARY:Brunch @ Rellik Winery
DESCRIPTION:Savor the summer with brunch on our vineyard patio.
URL:https://jacksonvillewine.com/event/brunch-rellik-winery-15/
LOCATION:Rellik Winery\, 970 Old Stage Rd\, Central Point\, 97502\, United States
END:VEVENT
BEGIN:VEVENT
DTSTART;TZID=UTC:20260719T160000
DTEND;TZID=UTC:20260719T180000
DTSTAMP:20260420T104808
CREATED:20260407T022149Z
LAST-MODIFIED:20260407T022149Z
UID:10000813-1784476800-1784484000@jacksonvillewine.com
SUMMARY:David Pinsky & Phil Newton @ Rellik Winery
DESCRIPTION:Experience authentic blues with David Pinsky and Phil Newton.
URL:https://jacksonvillewine.com/event/david-pinsky-phil-newton-rellik-winery-4/
LOCATION:Rellik Winery\, 970 Old Stage Rd\, Central Point\, 97502\, United States
END:VEVENT
BEGIN:VEVENT
DTSTART;TZID=UTC:20260724T170000
DTEND;TZID=UTC:20260724T190000
DTSTAMP:20260420T104808
CREATED:20260407T022150Z
LAST-MODIFIED:20260407T022150Z
UID:10000814-1784912400-1784919600@jacksonvillewine.com
SUMMARY:Dennis Konecny @ Rellik Winery
DESCRIPTION:Live performance by Dennis Konecny in our Medford tasting room.
URL:https://jacksonvillewine.com/event/dennis-konecny-rellik-winery-2/
LOCATION:Rellik Winery\, 970 Old Stage Rd\, Central Point\, 97502\, United States
END:VEVENT
BEGIN:VEVENT
DTSTART;TZID=UTC:20260725T153000
DTEND;TZID=UTC:20260725T183000
DTSTAMP:20260420T104808
CREATED:20260407T022151Z
LAST-MODIFIED:20260407T022151Z
UID:10000815-1784993400-1785004200@jacksonvillewine.com
SUMMARY:Saturday BBQ @ Rellik Winery
DESCRIPTION:Grilled favorites and cold wine — the perfect summer Saturday.
URL:https://jacksonvillewine.com/event/saturday-bbq-rellik-winery-8/
LOCATION:Rellik Winery\, 970 Old Stage Rd\, Central Point\, 97502\, United States
END:VEVENT
BEGIN:VEVENT
DTSTART;TZID=UTC:20260725T160000
DTEND;TZID=UTC:20260725T180000
DTSTAMP:20260420T104808
CREATED:20260407T022152Z
LAST-MODIFIED:20260407T022152Z
UID:10000816-1784995200-1785002400@jacksonvillewine.com
SUMMARY:Ann Kelly & Mark Ross @ Rellik Winery
DESCRIPTION:Saturday music featuring the local duo Ann Kelly & Mark Ross.
URL:https://jacksonvillewine.com/event/ann-kelly-mark-ross-rellik-winery-2/
LOCATION:Rellik Winery\, 970 Old Stage Rd\, Central Point\, 97502\, United States
END:VEVENT
BEGIN:VEVENT
DTSTART;TZID=UTC:20260726T103000
DTEND;TZID=UTC:20260726T130000
DTSTAMP:20260420T104808
CREATED:20260407T022152Z
LAST-MODIFIED:20260407T022152Z
UID:10000817-1785061800-1785070800@jacksonvillewine.com
SUMMARY:Brunch @ Rellik Winery
DESCRIPTION:Sunday brunch remains the highlight of the weekend at Rellik.
URL:https://jacksonvillewine.com/event/brunch-rellik-winery-16/
LOCATION:Rellik Winery\, 970 Old Stage Rd\, Central Point\, 97502\, United States
END:VEVENT
BEGIN:VEVENT
DTSTART;TZID=UTC:20260726T160000
DTEND;TZID=UTC:20260726T180000
DTSTAMP:20260420T104808
CREATED:20260407T022204Z
LAST-MODIFIED:20260407T022204Z
UID:10000818-1785081600-1785088800@jacksonvillewine.com
SUMMARY:Sterling Vintage Jazz @ Rellik Winery
DESCRIPTION:Wrap up July with smooth sounds from Sterling Vintage Jazz.
URL:https://jacksonvillewine.com/event/sterling-vintage-jazz-rellik-winery-2/
LOCATION:Rellik Winery\, 970 Old Stage Rd\, Central Point\, 97502\, United States
END:VEVENT
BEGIN:VEVENT
DTSTART;TZID=UTC:20260727T180000
DTEND;TZID=UTC:20260727T200000
DTSTAMP:20260420T104808
CREATED:20260407T022205Z
LAST-MODIFIED:20260407T022205Z
UID:10000819-1785175200-1785182400@jacksonvillewine.com
SUMMARY:Mike Brons @ Rellik Winery
DESCRIPTION:Start your week with the melodic tunes of Mike Brons.
URL:https://jacksonvillewine.com/event/mike-brons-rellik-winery-7/
LOCATION:Rellik Winery\, 970 Old Stage Rd\, Central Point\, 97502\, United States
END:VEVENT
BEGIN:VEVENT
DTSTART;TZID=UTC:20260727T180000
DTEND;TZID=UTC:20260727T200000
DTSTAMP:20260420T104808
CREATED:20260407T022206Z
LAST-MODIFIED:20260407T022206Z
UID:10000820-1785175200-1785182400@jacksonvillewine.com
SUMMARY:Wine Club Social @ Rellik Winery
DESCRIPTION:July’s exclusive wine club gathering in the tasting room.
URL:https://jacksonvillewine.com/event/wine-club-social-rellik-winery-4/
LOCATION:Rellik Winery\, 970 Old Stage Rd\, Central Point\, 97502\, United States
END:VEVENT
END:VCALENDAR